BEGIN:VCALENDAR
VERSION:2.0
PRODID:-//Dancehall Fit - ECPv6.15.17//NONSGML v1.0//EN
CALSCALE:GREGORIAN
METHOD:PUBLISH
X-ORIGINAL-URL:https://dancehallfit.com
X-WR-CALDESC:Events for Dancehall Fit
REFRESH-INTERVAL;VALUE=DURATION:PT1H
X-Robots-Tag:noindex
X-PUBLISHED-TTL:PT1H
BEGIN:VTIMEZONE
TZID:Asia/Dubai
BEGIN:STANDARD
TZOFFSETFROM:+0400
TZOFFSETTO:+0400
TZNAME:+04
DTSTART:20250101T000000
END:STANDARD
END:VTIMEZONE
BEGIN:VEVENT
DTSTART;TZID=Asia/Dubai:20260203T123000
DTEND;TZID=Asia/Dubai:20260203T133000
DTSTAMP:20260419T131433
CREATED:20260209T140753Z
LAST-MODIFIED:20260209T140753Z
UID:5077-1770121800-1770125400@dancehallfit.com
SUMMARY:Dancehall Fit for Seniors - February 3rd Carver
DESCRIPTION:Date: February 3rd \nTime: 12:30pm – 1:30pm \nLocation: \nCarver Recreation Center\n520 S Herbert Dixon Blvd.\nBartow\, FL 33830 \nCost: FREE 
URL:https://dancehallfit.com/event/dancehall-fit-for-seniors-february-3rd-carver/
CATEGORIES:Seniors
END:VEVENT
END:VCALENDAR