BEGIN:VCALENDAR
VERSION:2.0
PRODID:-//Dancehall Fit - ECPv6.15.17//NONSGML v1.0//EN
CALSCALE:GREGORIAN
METHOD:PUBLISH
X-WR-CALNAME:Dancehall Fit
X-ORIGINAL-URL:https://dancehallfit.com
X-WR-CALDESC:Events for Dancehall Fit
REFRESH-INTERVAL;VALUE=DURATION:PT1H
X-Robots-Tag:noindex
X-PUBLISHED-TTL:PT1H
BEGIN:VTIMEZONE
TZID:Asia/Dubai
BEGIN:STANDARD
TZOFFSETFROM:+0400
TZOFFSETTO:+0400
TZNAME:+04
DTSTART:20240101T000000
END:STANDARD
END:VTIMEZONE
BEGIN:VEVENT
DTSTART;TZID=Asia/Dubai:20250626T183000
DTEND;TZID=Asia/Dubai:20250626T193000
DTSTAMP:20260421T171420
CREATED:20250622T144309Z
LAST-MODIFIED:20250622T145223Z
UID:3666-1750962600-1750966200@dancehallfit.com
SUMMARY:Dancehall Fit - June 26th The Skills Center
DESCRIPTION:Date: June 26th \nTime: 6:30pm – 7:30pm \nLocation: \nThe Skills Center \n5107 N 22nd St \nTampa\, FL \n33610 \nCost: FREE to community
URL:https://dancehallfit.com/event/dancehall-fit-for-seniors-june-26th-the-skills-center/
CATEGORIES:Dancehall Fit Everyone
END:VEVENT
BEGIN:VEVENT
DTSTART;TZID=Asia/Dubai:20250621T110000
DTEND;TZID=Asia/Dubai:20250621T120000
DTSTAMP:20260421T171420
CREATED:20250622T144926Z
LAST-MODIFIED:20250622T144926Z
UID:3674-1750503600-1750507200@dancehallfit.com
SUMMARY:Dancehall Fit - June 21st Florida Blue
DESCRIPTION:Dancehall Fit Date: June 21st \nTime: 11am-12pm \nLocation: \nFlorida Blue\n2567 Countryside Blvd\nClearwater\, FL\n33761 \nCost: FREE to community
URL:https://dancehallfit.com/event/dancehall-fit-june-21st-florida-blue/
CATEGORIES:Dancehall Fit Everyone
END:VEVENT
BEGIN:VEVENT
DTSTART;TZID=Asia/Dubai:20250619T183000
DTEND;TZID=Asia/Dubai:20250619T193000
DTSTAMP:20260421T171420
CREATED:20250622T144203Z
LAST-MODIFIED:20250622T145258Z
UID:3664-1750357800-1750361400@dancehallfit.com
SUMMARY:Dancehall Fit - June 19th The Skills Center
DESCRIPTION:Date: June 19th \nTime: 6:30pm – 7:30pm \nLocation: \nThe Skills Center \n5107 N 22nd St \nTampa\, FL \n33610 \nCost: FREE to community
URL:https://dancehallfit.com/event/dancehall-fit-for-seniors-june-19th-the-skills-center/
CATEGORIES:Dancehall Fit Everyone
END:VEVENT
BEGIN:VEVENT
DTSTART;TZID=Asia/Dubai:20250617T180000
DTEND;TZID=Asia/Dubai:20250617T190000
DTSTAMP:20260421T171420
CREATED:20250622T143058Z
LAST-MODIFIED:20250622T153426Z
UID:3657-1750183200-1750186800@dancehallfit.com
SUMMARY:Dancehall Fit - June 17th Florida Blue
DESCRIPTION:Dancehall Fit Date: June 17th \nTime: 6pm-7pm \nLocation: \nFlorida Blue\n2567 Countryside Blvd\nClearwater\, FL\n33761 \nCost: FREE to community
URL:https://dancehallfit.com/event/dancehall-fit-june-17th-florida-blue/
CATEGORIES:Dancehall Fit Everyone
END:VEVENT
BEGIN:VEVENT
DTSTART;TZID=Asia/Dubai:20250614T110000
DTEND;TZID=Asia/Dubai:20250614T120000
DTSTAMP:20260421T171420
CREATED:20250622T153508Z
LAST-MODIFIED:20250622T153508Z
UID:3706-1749898800-1749902400@dancehallfit.com
SUMMARY:Dancehall Fit - June 14th Florida Blue
DESCRIPTION:Dancehall Fit Date: June 21st \nTime: 11am-12pm \nLocation: \nFlorida Blue\n2567 Countryside Blvd\nClearwater\, FL\n33761 \nCost: FREE to community
URL:https://dancehallfit.com/event/dancehall-fit-june-14th-florida-blue/
CATEGORIES:Dancehall Fit Everyone
END:VEVENT
BEGIN:VEVENT
DTSTART;TZID=Asia/Dubai:20250524T094500
DTEND;TZID=Asia/Dubai:20250524T104500
DTSTAMP:20260421T171420
CREATED:20250506T173834Z
LAST-MODIFIED:20250506T173834Z
UID:3586-1748079900-1748083500@dancehallfit.com
SUMMARY:Dancehall Fit - May 24th The Skills Center
DESCRIPTION:Date: May 24th \nTime: 9:45am-10:45am \nLocation: \nThe Skills Center \n5107 N 22nd St \nTampa\, FL \n33610 \nCost: FREE to seniors
URL:https://dancehallfit.com/event/dancehall-fit-may-24th-the-skills-center/
CATEGORIES:Dancehall Fit Everyone
END:VEVENT
BEGIN:VEVENT
DTSTART;TZID=Asia/Dubai:20250522T183000
DTEND;TZID=Asia/Dubai:20250522T193000
DTSTAMP:20260421T171420
CREATED:20250506T173639Z
LAST-MODIFIED:20250506T173639Z
UID:3582-1747938600-1747942200@dancehallfit.com
SUMMARY:Dancehall Fit - May 22nd The Skills Center
DESCRIPTION:Date: May 22nd \nTime: 6:30pm-7:30pm \nLocation: \nThe Skills Center \n5107 N 22nd St \nTampa\, FL \n33610 \nCost: FREE to seniors
URL:https://dancehallfit.com/event/dancehall-fit-may-22nd-the-skills-center/
CATEGORIES:Dancehall Fit Everyone
END:VEVENT
BEGIN:VEVENT
DTSTART;TZID=Asia/Dubai:20250517T110000
DTEND;TZID=Asia/Dubai:20250517T120000
DTSTAMP:20260421T171420
CREATED:20250506T173432Z
LAST-MODIFIED:20250506T173432Z
UID:3580-1747479600-1747483200@dancehallfit.com
SUMMARY:Dancehall Fit - May 17th Florida Blue
DESCRIPTION:Dancehall Fit Date: May 17th \nTime: 11am-12pm \nLocation: \nFlorida Blue\n2567 Countryside Blvd\nClearwater\, FL\n33761 \nCost: FREE to community
URL:https://dancehallfit.com/event/dancehall-fit-may-17th-florida-blue/
CATEGORIES:Dancehall Fit Everyone
END:VEVENT
BEGIN:VEVENT
DTSTART;TZID=Asia/Dubai:20250513T180000
DTEND;TZID=Asia/Dubai:20250513T190000
DTSTAMP:20260421T171420
CREATED:20250506T173337Z
LAST-MODIFIED:20250506T173337Z
UID:3578-1747159200-1747162800@dancehallfit.com
SUMMARY:Dancehall Fit - May 13th Florida Blue
DESCRIPTION:Dancehall Fit Date: May 13th \nTime: 6pm-7pm \nLocation: \nFlorida Blue\n2567 Countryside Blvd\nClearwater\, FL\n33761 \nCost: FREE to community
URL:https://dancehallfit.com/event/dancehall-fit-may-13th-florida-blue/
CATEGORIES:Dancehall Fit Everyone
END:VEVENT
BEGIN:VEVENT
DTSTART;TZID=Asia/Dubai:20250503T110000
DTEND;TZID=Asia/Dubai:20250503T120000
DTSTAMP:20260421T171420
CREATED:20250506T173101Z
LAST-MODIFIED:20250506T173101Z
UID:3574-1746270000-1746273600@dancehallfit.com
SUMMARY:Dancehall Fit - May 3rd Florida Blue
DESCRIPTION:Dancehall Fit Date: May 3rd \nTime: 11am-12pm \nLocation: \nFlorida Blue\n2567 Countryside Blvd\nClearwater\, FL\n33761 \nCost: FREE to community \n 
URL:https://dancehallfit.com/event/dancehall-fit-may-3rd-florida-blue/
CATEGORIES:Dancehall Fit Everyone
END:VEVENT
BEGIN:VEVENT
DTSTART;TZID=Asia/Dubai:20250426T094500
DTEND;TZID=Asia/Dubai:20250426T104500
DTSTAMP:20260421T171420
CREATED:20250404T211530Z
LAST-MODIFIED:20250404T211530Z
UID:3508-1745660700-1745664300@dancehallfit.com
SUMMARY:Dancehall Fit - April 26th The Skills Center
DESCRIPTION:Dancehall Fit Date: April 23rd \nTime: 9:45am- 10:45am \nLocation: \nThe Skills Center \n5107 N 22nd St \nTampa\, FL \n33610 \nCost: FREE to community
URL:https://dancehallfit.com/event/dancehall-fit-april-26th-the-skills-center/
CATEGORIES:Dancehall Fit Everyone
END:VEVENT
BEGIN:VEVENT
DTSTART;TZID=Asia/Dubai:20250424T183000
DTEND;TZID=Asia/Dubai:20250424T193000
DTSTAMP:20260421T171420
CREATED:20250404T212539Z
LAST-MODIFIED:20250404T212539Z
UID:3518-1745519400-1745523000@dancehallfit.com
SUMMARY:Dancehall Fit - April 24th The Skills Center
DESCRIPTION:Dancehall Fit Date: April 24th \nTime: 6:30pm- 7:30pm \nLocation: \nThe Skills Center \n5107 N 22nd St \nTampa\, FL \n33610 \nCost: FREE to community
URL:https://dancehallfit.com/event/dancehall-fit-april-24th-the-skills-center/
CATEGORIES:Dancehall Fit Everyone
END:VEVENT
BEGIN:VEVENT
DTSTART;TZID=Asia/Dubai:20250422T180000
DTEND;TZID=Asia/Dubai:20250422T190000
DTSTAMP:20260421T171420
CREATED:20250404T211315Z
LAST-MODIFIED:20250404T212239Z
UID:3506-1745344800-1745348400@dancehallfit.com
SUMMARY:Dancehall Fit - April 22nd Florida Blue
DESCRIPTION:Dancehall Fit Date: April 22nd \nTime: 6pm-7pm \nLocation: \nFlorida Blue\n2567 Countryside Blvd\nClearwater\, FL\n33761 \nCost: FREE to community \n 
URL:https://dancehallfit.com/event/dancehall-fit-april-22nd-florida-blue/
CATEGORIES:Dancehall Fit Everyone
END:VEVENT
BEGIN:VEVENT
DTSTART;TZID=Asia/Dubai:20250412T110000
DTEND;TZID=Asia/Dubai:20250412T120000
DTSTAMP:20260421T171420
CREATED:20250404T211204Z
LAST-MODIFIED:20250404T211237Z
UID:3503-1744455600-1744459200@dancehallfit.com
SUMMARY:Dancehall Fit - April 12th Florida Blue
DESCRIPTION:Dancehall Fit Date: April 12th \nTime: 11am-12pm \nLocation: \nFlorida Blue\n2567 Countryside Blvd\nClearwater\, FL\n33761 \nCost: FREE to community \n 
URL:https://dancehallfit.com/event/dancehall-fit-april-12th-florida-blue-copy/
CATEGORIES:Dancehall Fit Everyone
END:VEVENT
BEGIN:VEVENT
DTSTART;TZID=Asia/Dubai:20250405T110000
DTEND;TZID=Asia/Dubai:20250405T120000
DTSTAMP:20260421T171420
CREATED:20250404T205915Z
LAST-MODIFIED:20250404T205915Z
UID:3475-1743850800-1743854400@dancehallfit.com
SUMMARY:Dancehall Fit - April 5th Florida Blue
DESCRIPTION:Dancehall Fit Date: April 5th \nTime: 11am-12pm \nLocation: \nFlorida Blue\n2567 Countryside Blvd\nClearwater\, FL\n33761 \nCost: FREE to community \n 
URL:https://dancehallfit.com/event/dancehall-fit-april-5th-florida-blue/
CATEGORIES:Dancehall Fit Everyone
END:VEVENT
BEGIN:VEVENT
DTSTART;TZID=Asia/Dubai:20250327T183000
DTEND;TZID=Asia/Dubai:20250327T193000
DTSTAMP:20260421T171420
CREATED:20250304T155133Z
LAST-MODIFIED:20250304T155133Z
UID:3434-1743100200-1743103800@dancehallfit.com
SUMMARY:Dancehall Fit - March 27th The Skills Center
DESCRIPTION:Dancehall Fit Date: March 27th \nTime: 6:30pm – 7:30pm \nLocation: \nThe Skills Center \n5107 N 22nd St \nTampa\, FL \n33610 \nCost: FREE to community
URL:https://dancehallfit.com/event/dancehall-fit-march-27th-the-skills-center/
CATEGORIES:Dancehall Fit Everyone
END:VEVENT
BEGIN:VEVENT
DTSTART;TZID=Asia/Dubai:20250322T094500
DTEND;TZID=Asia/Dubai:20250322T104500
DTSTAMP:20260421T171420
CREATED:20250304T154457Z
LAST-MODIFIED:20250304T154457Z
UID:3426-1742636700-1742640300@dancehallfit.com
SUMMARY:Dancehall Fit - March 22nd The Skills Center
DESCRIPTION:Date: March 22nd \nTime: 9:45am – 10:45am \nLocation: \nThe Skills Center \n5107 N 22nd St \nTampa\, FL \n33610 \nCost: FREE for Seniors \n \n 
URL:https://dancehallfit.com/event/dancehall-fit-march-22nd-the-skills-center/
CATEGORIES:Dancehall Fit Everyone
END:VEVENT
BEGIN:VEVENT
DTSTART;TZID=Asia/Dubai:20250318T180000
DTEND;TZID=Asia/Dubai:20250318T190000
DTSTAMP:20260421T171420
CREATED:20250304T154311Z
LAST-MODIFIED:20250304T154311Z
UID:3424-1742320800-1742324400@dancehallfit.com
SUMMARY:Dancehall Fit - March 18th Florida Blue
DESCRIPTION:Date: March 18th \nTime: 6pm – 7pm \nLocation: \nFlorida Blue \n2567 Countryside Blvd \nClearwater\, FL \n33761 \nCost: FREE for Seniors \n \n 
URL:https://dancehallfit.com/event/dancehall-fit-march-18th-florida-blue/
CATEGORIES:Dancehall Fit Everyone
END:VEVENT
BEGIN:VEVENT
DTSTART;TZID=Asia/Dubai:20250315T110000
DTEND;TZID=Asia/Dubai:20250315T120000
DTSTAMP:20260421T171420
CREATED:20250304T153957Z
LAST-MODIFIED:20250304T153957Z
UID:3422-1742036400-1742040000@dancehallfit.com
SUMMARY:Dancehall Fit - March 15th Florida Blue
DESCRIPTION:Dancehall Fit \nDate: March 15th \nTime: 11am-12pm \nLocation: Florida Blue \n2567 Countryside Blvd \nClearwater\, FL \n33761 \nCost: FREE to community \n 
URL:https://dancehallfit.com/event/dancehall-fit-march-15th-florida-blue/
CATEGORIES:Dancehall Fit Everyone
END:VEVENT
BEGIN:VEVENT
DTSTART;TZID=Asia/Dubai:20250301T110000
DTEND;TZID=Asia/Dubai:20250301T120000
DTSTAMP:20260421T171420
CREATED:20250304T145627Z
LAST-MODIFIED:20250304T145638Z
UID:3376-1740826800-1740830400@dancehallfit.com
SUMMARY:Dancehall Fit - March 1st Florida Blue
DESCRIPTION:Dancehall Fit \nDate: March 1st \nTime: 11am-12pm \nLocation: Florida Blue \n2567 Countryside Blvd \nClearwater\, FL 33761 \nCost: FREE to community
URL:https://dancehallfit.com/event/dancehall-fit-february-18th-florida-blue-copy/
CATEGORIES:Dancehall Fit Everyone
END:VEVENT
BEGIN:VEVENT
DTSTART;TZID=Asia/Dubai:20250226T183000
DTEND;TZID=Asia/Dubai:20250226T193000
DTSTAMP:20260421T171420
CREATED:20250205T175619Z
LAST-MODIFIED:20250205T175619Z
UID:3355-1740594600-1740598200@dancehallfit.com
SUMMARY:Dancehall Fit - February 26th The Skills Center
DESCRIPTION:Dancehall Fit \nDate: February 22nd \nTime: 6:30pm-7:30pm \nLocation: The Skills Center \n5107 N 22nd St \nTampa\, FL 33610 \nCost: FREE to community
URL:https://dancehallfit.com/event/dancehall-fit-february-26th-the-skills-center/
CATEGORIES:Dancehall Fit Everyone
END:VEVENT
BEGIN:VEVENT
DTSTART;TZID=Asia/Dubai:20250222T100000
DTEND;TZID=Asia/Dubai:20250222T110000
DTSTAMP:20260421T171420
CREATED:20250205T175513Z
LAST-MODIFIED:20250205T175513Z
UID:3353-1740218400-1740222000@dancehallfit.com
SUMMARY:Dancehall Fit - February 22nd The Skills Center
DESCRIPTION:Dancehall Fit \nDate: February 22nd \nTime: 10am-11am \nLocation: The Skills Center \n5107 N 22nd St \nTampa\, FL 33610 \nCost: FREE to community
URL:https://dancehallfit.com/event/dancehall-fit-february-22nd-the-skills-center/
CATEGORIES:Dancehall Fit Everyone
END:VEVENT
BEGIN:VEVENT
DTSTART;TZID=Asia/Dubai:20250218T180000
DTEND;TZID=Asia/Dubai:20250218T190000
DTSTAMP:20260421T171420
CREATED:20250205T175356Z
LAST-MODIFIED:20250205T175356Z
UID:3351-1739901600-1739905200@dancehallfit.com
SUMMARY:Dancehall Fit - February 18th Florida Blue
DESCRIPTION:Dancehall Fit \nDate: February 18th \nTime: 6pm-7pm \nLocation: Florida Blue \n2567 Countryside Blvd \nClearwater\, FL 33761 \nCost: FREE to community
URL:https://dancehallfit.com/event/dancehall-fit-february-18th-florida-blue/
CATEGORIES:Dancehall Fit Everyone
END:VEVENT
BEGIN:VEVENT
DTSTART;TZID=Asia/Dubai:20250215T110000
DTEND;TZID=Asia/Dubai:20250215T120000
DTSTAMP:20260421T171420
CREATED:20250205T175236Z
LAST-MODIFIED:20250205T175236Z
UID:3349-1739617200-1739620800@dancehallfit.com
SUMMARY:Dancehall Fit - February 15th Florida Blue
DESCRIPTION:Dancehall Fit \nDate: February 15th \nTime: 11am-12pm \nLocation: Florida Blue \n2567 Countryside Blvd \nClearwater\, FL \n33761 \nCost: FREE to community
URL:https://dancehallfit.com/event/dancehall-fit-february-15th-florida-blue/
CATEGORIES:Dancehall Fit Everyone
END:VEVENT
BEGIN:VEVENT
DTSTART;TZID=Asia/Dubai:20250201T110000
DTEND;TZID=Asia/Dubai:20250201T120000
DTSTAMP:20260421T171420
CREATED:20250205T172739Z
LAST-MODIFIED:20250205T172800Z
UID:3300-1738407600-1738411200@dancehallfit.com
SUMMARY:Dancehall Fit - February 1st Florida Blue
DESCRIPTION:Dancehall Fit \nDate: February 1st \nTime: 11am-12pm \nLocation: Florida Blue \n2567 Countryside Blvd \nClearwater\, FL \n33761 \nCost: FREE to community
URL:https://dancehallfit.com/event/dancehall-fit-february-1st-florida-blue/
CATEGORIES:Dancehall Fit Everyone
END:VEVENT
BEGIN:VEVENT
DTSTART;TZID=Asia/Dubai:20250122T110000
DTEND;TZID=Asia/Dubai:20250122T120000
DTSTAMP:20260421T171420
CREATED:20250114T012426Z
LAST-MODIFIED:20250114T012426Z
UID:3279-1737543600-1737547200@dancehallfit.com
SUMMARY:Dancehall Fit for Seniors - January 22nd The Skills Center
DESCRIPTION:Dancehall Fit for Seniors \nDate: January 22nd \nTime: 11am – 12pm \nLocation: The Skills Center \n5107 N 22nd St \nTampa\, FL 33610 \nCost: FREE to Seniors \n 
URL:https://dancehallfit.com/event/dancehall-fit-for-seniors-january-22nd-the-skills-center/
CATEGORIES:Dancehall Fit Everyone
END:VEVENT
BEGIN:VEVENT
DTSTART;TZID=Asia/Dubai:20250121T180000
DTEND;TZID=Asia/Dubai:20250121T190000
DTSTAMP:20260421T171420
CREATED:20250114T013224Z
LAST-MODIFIED:20250205T172807Z
UID:3286-1737482400-1737486000@dancehallfit.com
SUMMARY:Dancehall Fit - January 21st Florida Blue
DESCRIPTION:Dancehall Fit \nDate: January 21st \nTime: 6pm-7pm \nLocation: Florida Blue \n2567 Countryside Blvd \nClearwater\, FL \n33761 \nCost: FREE to Community \n 
URL:https://dancehallfit.com/event/dancehall-fit-january-21st-florida-blue/
CATEGORIES:Dancehall Fit Everyone
END:VEVENT
BEGIN:VEVENT
DTSTART;TZID=Asia/Dubai:20250118T110000
DTEND;TZID=Asia/Dubai:20250118T120000
DTSTAMP:20260421T171420
CREATED:20250114T012253Z
LAST-MODIFIED:20250114T012253Z
UID:3277-1737198000-1737201600@dancehallfit.com
SUMMARY:Dancehall Fit - January 18th Florida Blue
DESCRIPTION:Dancehall Fit \nDate: January 18th \nTime: 11am – 12pm \nLocation: Florida Blue \n201 N West Shore Blvd \nTampa\, FL 33769 \nCost: FREE to Community \n 
URL:https://dancehallfit.com/event/dancehall-fit-january-18th-florida-blue/
CATEGORIES:Dancehall Fit Everyone
END:VEVENT
BEGIN:VEVENT
DTSTART;TZID=Asia/Dubai:20250116T110000
DTEND;TZID=Asia/Dubai:20250116T120000
DTSTAMP:20260421T171420
CREATED:20250114T012110Z
LAST-MODIFIED:20250114T012110Z
UID:3275-1737025200-1737028800@dancehallfit.com
SUMMARY:Dancehall Fit for Seniors - January 16th The Skills Center
DESCRIPTION:Dancehall Fit for Seniors \nDate: January 16th \nTime: 11am – 12pm \nLocation: The Skills Center \n5107 N 22nd St \nTampa\, FL 33610 \nCost: FREE to Seniors \n 
URL:https://dancehallfit.com/event/dancehall-fit-for-seniors-january-16th-the-skills-center/
CATEGORIES:Dancehall Fit Everyone
END:VEVENT
BEGIN:VEVENT
DTSTART;TZID=Asia/Dubai:20250116T103000
DTEND;TZID=Asia/Dubai:20250116T113000
DTSTAMP:20260421T171420
CREATED:20250114T011940Z
LAST-MODIFIED:20250114T011940Z
UID:3273-1737023400-1737027000@dancehallfit.com
SUMMARY:Dancehall Fit for Seniors - January 16th Cyrus Green
DESCRIPTION:Dancehall Fit for Seniors \nDate: January 16th \nTime: 10:30am – 11:30am \nLocation: Cyrus Green Community Center \n2101 E Dr MLK Jr. Blvd \nTampa\, FL 33610 \nCost: FREE to Seniors
URL:https://dancehallfit.com/event/dancehall-fit-for-seniors-january-16th-cyrus-green/
CATEGORIES:Dancehall Fit Everyone
END:VEVENT
END:VCALENDAR