BEGIN:VCALENDAR
VERSION:2.0
PRODID:-//Dancehall Fit - ECPv6.15.17//NONSGML v1.0//EN
CALSCALE:GREGORIAN
METHOD:PUBLISH
X-WR-CALNAME:Dancehall Fit
X-ORIGINAL-URL:https://dancehallfit.com
X-WR-CALDESC:Events for Dancehall Fit
REFRESH-INTERVAL;VALUE=DURATION:PT1H
X-Robots-Tag:noindex
X-PUBLISHED-TTL:PT1H
BEGIN:VTIMEZONE
TZID:Asia/Dubai
BEGIN:STANDARD
TZOFFSETFROM:+0400
TZOFFSETTO:+0400
TZNAME:+04
DTSTART:20230101T000000
END:STANDARD
END:VTIMEZONE
BEGIN:VEVENT
DTSTART;TZID=Asia/Dubai:20250201T110000
DTEND;TZID=Asia/Dubai:20250201T120000
DTSTAMP:20260425T151026
CREATED:20250205T172739Z
LAST-MODIFIED:20250205T172800Z
UID:3300-1738407600-1738411200@dancehallfit.com
SUMMARY:Dancehall Fit - February 1st Florida Blue
DESCRIPTION:Dancehall Fit \nDate: February 1st \nTime: 11am-12pm \nLocation: Florida Blue \n2567 Countryside Blvd \nClearwater\, FL \n33761 \nCost: FREE to community
URL:https://dancehallfit.com/event/dancehall-fit-february-1st-florida-blue/
CATEGORIES:Dancehall Fit Everyone
END:VEVENT
BEGIN:VEVENT
DTSTART;TZID=Asia/Dubai:20250122T110000
DTEND;TZID=Asia/Dubai:20250122T120000
DTSTAMP:20260425T151026
CREATED:20250114T012426Z
LAST-MODIFIED:20250114T012426Z
UID:3279-1737543600-1737547200@dancehallfit.com
SUMMARY:Dancehall Fit for Seniors - January 22nd The Skills Center
DESCRIPTION:Dancehall Fit for Seniors \nDate: January 22nd \nTime: 11am – 12pm \nLocation: The Skills Center \n5107 N 22nd St \nTampa\, FL 33610 \nCost: FREE to Seniors \n 
URL:https://dancehallfit.com/event/dancehall-fit-for-seniors-january-22nd-the-skills-center/
CATEGORIES:Dancehall Fit Everyone
END:VEVENT
BEGIN:VEVENT
DTSTART;TZID=Asia/Dubai:20250121T180000
DTEND;TZID=Asia/Dubai:20250121T190000
DTSTAMP:20260425T151026
CREATED:20250114T013224Z
LAST-MODIFIED:20250205T172807Z
UID:3286-1737482400-1737486000@dancehallfit.com
SUMMARY:Dancehall Fit - January 21st Florida Blue
DESCRIPTION:Dancehall Fit \nDate: January 21st \nTime: 6pm-7pm \nLocation: Florida Blue \n2567 Countryside Blvd \nClearwater\, FL \n33761 \nCost: FREE to Community \n 
URL:https://dancehallfit.com/event/dancehall-fit-january-21st-florida-blue/
CATEGORIES:Dancehall Fit Everyone
END:VEVENT
BEGIN:VEVENT
DTSTART;TZID=Asia/Dubai:20250118T110000
DTEND;TZID=Asia/Dubai:20250118T120000
DTSTAMP:20260425T151026
CREATED:20250114T012253Z
LAST-MODIFIED:20250114T012253Z
UID:3277-1737198000-1737201600@dancehallfit.com
SUMMARY:Dancehall Fit - January 18th Florida Blue
DESCRIPTION:Dancehall Fit \nDate: January 18th \nTime: 11am – 12pm \nLocation: Florida Blue \n201 N West Shore Blvd \nTampa\, FL 33769 \nCost: FREE to Community \n 
URL:https://dancehallfit.com/event/dancehall-fit-january-18th-florida-blue/
CATEGORIES:Dancehall Fit Everyone
END:VEVENT
BEGIN:VEVENT
DTSTART;TZID=Asia/Dubai:20250116T110000
DTEND;TZID=Asia/Dubai:20250116T120000
DTSTAMP:20260425T151026
CREATED:20250114T012110Z
LAST-MODIFIED:20250114T012110Z
UID:3275-1737025200-1737028800@dancehallfit.com
SUMMARY:Dancehall Fit for Seniors - January 16th The Skills Center
DESCRIPTION:Dancehall Fit for Seniors \nDate: January 16th \nTime: 11am – 12pm \nLocation: The Skills Center \n5107 N 22nd St \nTampa\, FL 33610 \nCost: FREE to Seniors \n 
URL:https://dancehallfit.com/event/dancehall-fit-for-seniors-january-16th-the-skills-center/
CATEGORIES:Dancehall Fit Everyone
END:VEVENT
BEGIN:VEVENT
DTSTART;TZID=Asia/Dubai:20250116T103000
DTEND;TZID=Asia/Dubai:20250116T113000
DTSTAMP:20260425T151026
CREATED:20250114T011940Z
LAST-MODIFIED:20250114T011940Z
UID:3273-1737023400-1737027000@dancehallfit.com
SUMMARY:Dancehall Fit for Seniors - January 16th Cyrus Green
DESCRIPTION:Dancehall Fit for Seniors \nDate: January 16th \nTime: 10:30am – 11:30am \nLocation: Cyrus Green Community Center \n2101 E Dr MLK Jr. Blvd \nTampa\, FL 33610 \nCost: FREE to Seniors
URL:https://dancehallfit.com/event/dancehall-fit-for-seniors-january-16th-cyrus-green/
CATEGORIES:Dancehall Fit Everyone
END:VEVENT
BEGIN:VEVENT
DTSTART;TZID=Asia/Dubai:20250115T140000
DTEND;TZID=Asia/Dubai:20250115T150000
DTSTAMP:20260425T151026
CREATED:20250114T011602Z
LAST-MODIFIED:20250114T011602Z
UID:3271-1736949600-1736953200@dancehallfit.com
SUMMARY:Dancehall Fit for Seniors - January 15th VeriMED
DESCRIPTION:Dancehall Fit for Seniors \nDate: January 15th \nTime: 2pm – 3pm \nLocation: VeriMED Health Group \n809 S Florida Ave \nLakeland\, FL 33801 \nCost: FREE to Seniors
URL:https://dancehallfit.com/event/dancehall-fit-for-seniors-january-15th-verimed/
CATEGORIES:Dancehall Fit Everyone
END:VEVENT
BEGIN:VEVENT
DTSTART;TZID=Asia/Dubai:20250113T173000
DTEND;TZID=Asia/Dubai:20250113T183000
DTSTAMP:20260425T151026
CREATED:20250114T011329Z
LAST-MODIFIED:20250114T011329Z
UID:3265-1736789400-1736793000@dancehallfit.com
SUMMARY:Dancehall Fit for Seniors - January 13th Allen Temple
DESCRIPTION:Dancehall Fit for Seniors \nDate: January 13th \nTime: 5:30pm – 6:30pm \nLocation: Allen Temple AME Church \n2101 N Lowe St. \nTampa\, FL 33605 \nCost: FREE to Seniors \n 
URL:https://dancehallfit.com/event/dancehall-fit-for-seniors-january-13th-allen-temple/
CATEGORIES:Dancehall Fit Everyone
END:VEVENT
BEGIN:VEVENT
DTSTART;TZID=Asia/Dubai:20250111T110000
DTEND;TZID=Asia/Dubai:20250111T120000
DTSTAMP:20260425T151026
CREATED:20250114T011008Z
LAST-MODIFIED:20250114T011352Z
UID:3260-1736593200-1736596800@dancehallfit.com
SUMMARY:Dancehall Fit - January 11th Florida Blue
DESCRIPTION:Dancehall Fit \nDate: January 11th \nTime: 11am – 12pm \nLocation:Florida Blue \n2567 Countryside Blvd \nClearwater\, FL 33761 \nCost: FREE to Community \n 
URL:https://dancehallfit.com/event/dancehall-fit-template-january-11th-florida-blue/
CATEGORIES:Dancehall Fit Everyone
END:VEVENT
BEGIN:VEVENT
DTSTART;TZID=Asia/Dubai:20241221T110000
DTEND;TZID=Asia/Dubai:20241221T120000
DTSTAMP:20260425T151026
CREATED:20241203T131838Z
LAST-MODIFIED:20241203T131838Z
UID:3219-1734778800-1734782400@dancehallfit.com
SUMMARY:Dancehall Fit December 21st Florida Blue
DESCRIPTION:Dancehall Fit \nDate: December 21st \nTime: 11am-12pm \nLocation: Florida Blue \n                201 N West Shore Blvd \n                Tampa\, FL \n                337609 \nCost: FREE to Community \n 
URL:https://dancehallfit.com/event/dancehall-fit-december-21st-florida-blue/
CATEGORIES:Dancehall Fit Everyone
END:VEVENT
BEGIN:VEVENT
DTSTART;TZID=Asia/Dubai:20241219T173000
DTEND;TZID=Asia/Dubai:20241219T183000
DTSTAMP:20260425T151026
CREATED:20241203T131719Z
LAST-MODIFIED:20241203T131719Z
UID:3217-1734629400-1734633000@dancehallfit.com
SUMMARY:Dancehall Fit December 19th Florida Blue
DESCRIPTION:Dancehall Fit  \nDate: December 19th \nTime: 5:30pm – 6:30pm \nLocation: Florida Blue  \n                2567 Countryside Blvd \n                Clearwater\, FL \n                33761 \nCost: FREE to Community \n 
URL:https://dancehallfit.com/event/dancehall-fit-december-19th-florida-blue/
CATEGORIES:Dancehall Fit Everyone
END:VEVENT
BEGIN:VEVENT
DTSTART;TZID=Asia/Dubai:20241207T110000
DTEND;TZID=Asia/Dubai:20241207T120000
DTSTAMP:20260425T151026
CREATED:20241203T130856Z
LAST-MODIFIED:20241203T130856Z
UID:3206-1733569200-1733572800@dancehallfit.com
SUMMARY:Dancehall Fit -  December 7th Florida Blue
DESCRIPTION:Dancehall Fit  \nDate: December 7th \nTime: 11am – 12pm \nLocation: Florida Blue  \n                2567 Countryside Blvd \n                Clearwater\, FL \n                33761 \nCost: FREE to Community \n 
URL:https://dancehallfit.com/event/dancehall-fit-december-7th-florida-blue/
CATEGORIES:Dancehall Fit Everyone
END:VEVENT
BEGIN:VEVENT
DTSTART;TZID=Asia/Dubai:20241123T110000
DTEND;TZID=Asia/Dubai:20241123T120000
DTSTAMP:20260425T151026
CREATED:20241103T122303Z
LAST-MODIFIED:20241103T122303Z
UID:3177-1732359600-1732363200@dancehallfit.com
SUMMARY:Dancehall Fit - November 23rd Florida Blue
DESCRIPTION:Dancehall Fit \nDate: November 23rd \nTime: 11am-12pm \nLocation: Florida Blue \n201 N West Shore Blvd \nTampa\, FL \n337609 \nCost: FREE to Community \n 
URL:https://dancehallfit.com/event/dancehall-fit-november-23rd-florida-blue/
CATEGORIES:Dancehall Fit Everyone
END:VEVENT
BEGIN:VEVENT
DTSTART;TZID=Asia/Dubai:20241121T173000
DTEND;TZID=Asia/Dubai:20241121T183000
DTSTAMP:20260425T151026
CREATED:20241103T122308Z
LAST-MODIFIED:20241103T122308Z
UID:3176-1732210200-1732213800@dancehallfit.com
SUMMARY:Dancehall Fit - November 21st Florida Blue
DESCRIPTION:Dancehall Fit \nDate: November 21st \nTime: 5:30pm – 6:30pm \nLocation: Florida Blue \n2567 Countryside Blvd \nClearwater\, FL \n33761 \nCost: FREE to Community \n 
URL:https://dancehallfit.com/event/dancehall-fit-november-21st-florida-blue/
CATEGORIES:Dancehall Fit Everyone
END:VEVENT
BEGIN:VEVENT
DTSTART;TZID=Asia/Dubai:20241102T110000
DTEND;TZID=Asia/Dubai:20241102T120000
DTSTAMP:20260425T151026
CREATED:20241103T122312Z
LAST-MODIFIED:20241103T122312Z
UID:3175-1730545200-1730548800@dancehallfit.com
SUMMARY:Dancehall Fit - November 2nd Florida Blue
DESCRIPTION:Dancehall Fit \nDate: November 2nd \nTime: 11am – 12pm \nLocation: Florida Blue \n2567 Countryside Blvd \nClearwater\, FL \n33761 \nCost: FREE to Community \n 
URL:https://dancehallfit.com/event/dancehall-fit-november-2nd-florida-blue/
CATEGORIES:Dancehall Fit Everyone
END:VEVENT
BEGIN:VEVENT
DTSTART;TZID=Asia/Dubai:20241024T173000
DTEND;TZID=Asia/Dubai:20241024T183000
DTSTAMP:20260425T151026
CREATED:20240930T153339Z
LAST-MODIFIED:20241004T034126Z
UID:2974-1729791000-1729794600@dancehallfit.com
SUMMARY:Dancehall Fit - October 24th Florida Blue
DESCRIPTION:Dancehall Fit \nDate: October 24th \nTime: 5:30pm – 6:30pm \nLocation: Florida Blue \n2567 Countryside Blvd \nClearwater\, FL \n33761 \nCost: FREE to Community \n 
URL:https://dancehallfit.com/event/dancehall-fit-template-october-24th-florida-blue/
LOCATION:Florida Blue\, 2567 Countryside Blvd\, Clearwater\, FL\, 33761\, United States
CATEGORIES:Dancehall Fit Everyone
END:VEVENT
BEGIN:VEVENT
DTSTART;TZID=Asia/Dubai:20241019T110000
DTEND;TZID=Asia/Dubai:20241019T120000
DTSTAMP:20260425T151026
CREATED:20240930T153242Z
LAST-MODIFIED:20241004T034134Z
UID:2975-1729335600-1729339200@dancehallfit.com
SUMMARY:Dancehall Fit - October 19th Florida Blue
DESCRIPTION:Dancehall Fit \nDate: October 19th \nTime: 11am-12pm \nLocation: Florida Blue \n201 N West Shore Blvd \nTampa\, FL \n337609 \nCost: FREE to Community \n 
URL:https://dancehallfit.com/event/dancehall-fit-template-october-19th-florida-blue/
LOCATION:Florida Blue\, 2567 Countryside Blvd\, Clearwater\, FL\, 33761\, United States
CATEGORIES:Dancehall Fit Everyone
END:VEVENT
BEGIN:VEVENT
DTSTART;TZID=Asia/Dubai:20241005T110000
DTEND;TZID=Asia/Dubai:20241005T120000
DTSTAMP:20260425T151026
CREATED:20240930T153147Z
LAST-MODIFIED:20241004T034148Z
UID:2976-1728126000-1728129600@dancehallfit.com
SUMMARY:Dancehall Fit - October 5th Florida Blue
DESCRIPTION:Dancehall Fit \nDate: October 5th \nTime: 11am – 12pm \nLocation: Florida Blue \n2567 Countryside Blvd \nClearwater\, FL \n33761 \nCost: FREE to Community \n 
URL:https://dancehallfit.com/event/dancehall-fit-template-october-5th-florida-blue/
LOCATION:Florida Blue\, 2567 Countryside Blvd\, Clearwater\, FL\, 33761\, United States
CATEGORIES:Dancehall Fit Everyone
END:VEVENT
BEGIN:VEVENT
DTSTART;TZID=Asia/Dubai:20240921T110000
DTEND;TZID=Asia/Dubai:20240921T120000
DTSTAMP:20260425T151026
CREATED:20240906T061019Z
LAST-MODIFIED:20240909T185319Z
UID:2859-1726916400-1726920000@dancehallfit.com
SUMMARY:Dancehall Fit - September 21st Florida Blue
DESCRIPTION:Dancehall Fit \nDate: September 21st \nTime: 11am-12pm \nLocation: Florida Blue \n201 N West Shore Blvd \nTampa\, FL \n337609 \nCost: FREE to Community \n 
URL:https://dancehallfit.com/event/dancehall-fit-template-september-21st-florida-blue/
LOCATION:Florida Blue\, 2567 Countryside Blvd\, Clearwater\, FL\, 33761\, United States
CATEGORIES:Dancehall Fit Everyone
END:VEVENT
BEGIN:VEVENT
DTSTART;TZID=Asia/Dubai:20240919T173000
DTEND;TZID=Asia/Dubai:20240919T183000
DTSTAMP:20260425T151026
CREATED:20240906T060846Z
LAST-MODIFIED:20240909T185300Z
UID:2861-1726767000-1726770600@dancehallfit.com
SUMMARY:Dancehall Fit - September 19th Florida Blue
DESCRIPTION:Dancehall Fit \nDate: September 19th \nTime: 5:30pm – 6:30pm \nLocation: Florida Blue \n2567 Countryside Blvd \nClearwater\, FL \n33761 \nCost: FREE to Community \n 
URL:https://dancehallfit.com/event/dancehall-fit-template-september-19th-florida-blue/
LOCATION:Florida Blue\, 2567 Countryside Blvd\, Clearwater\, FL\, 33761\, United States
CATEGORIES:Dancehall Fit Everyone
END:VEVENT
BEGIN:VEVENT
DTSTART;TZID=Asia/Dubai:20240907T110000
DTEND;TZID=Asia/Dubai:20240907T120000
DTSTAMP:20260425T151026
CREATED:20240906T060800Z
LAST-MODIFIED:20240909T184936Z
UID:2862-1725706800-1725710400@dancehallfit.com
SUMMARY:Dancehall Fit - September 7th Florida Blue
DESCRIPTION:Dancehall Fit \nDate: September 7th \nTime: 11am – 12pm \nLocation: Florida Blue \n2567 Countryside Blvd \nClearwater\, FL \n33761 \nCost: FREE to Community \n 
URL:https://dancehallfit.com/event/dancehall-fit-template-september-7th-florida-blue/
LOCATION:Florida Blue\, 2567 Countryside Blvd\, Clearwater\, FL\, 33761\, United States
CATEGORIES:Dancehall Fit Everyone
END:VEVENT
BEGIN:VEVENT
DTSTART;TZID=Asia/Dubai:20240906T173000
DTEND;TZID=Asia/Dubai:20240906T183000
DTSTAMP:20260425T151026
CREATED:20240906T060939Z
LAST-MODIFIED:20240909T184933Z
UID:2860-1725643800-1725647400@dancehallfit.com
SUMMARY:Dancehall Fit - September 6th Florida Blue
DESCRIPTION:Dancehall Fit \nDate: September 6th \nTime: 5:30pm – 6:30pm \nLocation: Florida Blue \n201 N West Shore Blvd \nTampa\, FL \n337609 \nCost: FREE to Community \n 
URL:https://dancehallfit.com/event/dancehall-fit-template-september-6th-florida-blue/
LOCATION:Florida Blue\, 2567 Countryside Blvd\, Clearwater\, FL\, 33761\, United States
CATEGORIES:Dancehall Fit Everyone
END:VEVENT
BEGIN:VEVENT
DTSTART;TZID=Asia/Dubai:20240817T110000
DTEND;TZID=Asia/Dubai:20240817T120000
DTSTAMP:20260425T151026
CREATED:20240801T201643Z
LAST-MODIFIED:20240801T201643Z
UID:2786-1723892400-1723896000@dancehallfit.com
SUMMARY:Dancehall Fit - August 17th Florida Blue
DESCRIPTION:Dancehall Fit \nDate: August 17th \nTime: 11am-12pm \nLocation: Florida Blue \n201 N West Shore Blvd \nTampa\, FL \n337609 \nCost: FREE to Community \n 
URL:https://dancehallfit.com/event/dancehall-fit-august-17th-florida-blue/
LOCATION:Florida Blue\, 2567 Countryside Blvd\, Clearwater\, FL\, 33761\, United States
CATEGORIES:Dancehall Fit Everyone
END:VEVENT
BEGIN:VEVENT
DTSTART;TZID=Asia/Dubai:20240815T173000
DTEND;TZID=Asia/Dubai:20240815T183000
DTSTAMP:20260425T151026
CREATED:20240801T201726Z
LAST-MODIFIED:20240801T201726Z
UID:2787-1723743000-1723746600@dancehallfit.com
SUMMARY:Dancehall Fit - August 15th Florida Blue
DESCRIPTION:Dancehall Fit \nDate: August 15th \nTime: 5:30pm – 6:30pm \nLocation: Florida Blue \n2567 Countryside Blvd \nClearwater\, FL \n33761 \nCost: FREE to Community \n 
URL:https://dancehallfit.com/event/dancehall-fit-august-15th-florida-blue/
LOCATION:Florida Blue\, 2567 Countryside Blvd\, Clearwater\, FL\, 33761\, United States
CATEGORIES:Dancehall Fit Everyone
END:VEVENT
BEGIN:VEVENT
DTSTART;TZID=Asia/Dubai:20240810T110000
DTEND;TZID=Asia/Dubai:20240810T120000
DTSTAMP:20260425T151026
CREATED:20240801T201554Z
LAST-MODIFIED:20240801T201554Z
UID:2785-1723287600-1723291200@dancehallfit.com
SUMMARY:Dancehall Fit - August 10th Florida Blue
DESCRIPTION:Dancehall Fit \nDate: August 10th \nTime: 11am – 12pm \nLocation: Florida Blue \n2567 Countryside Blvd \nClearwater\, FL \n33761 \nCost: FREE to Community
URL:https://dancehallfit.com/event/dancehall-fit-august-10th-florida-blue/
LOCATION:Florida Blue\, 2567 Countryside Blvd\, Clearwater\, FL\, 33761\, United States
CATEGORIES:Dancehall Fit Everyone
END:VEVENT
BEGIN:VEVENT
DTSTART;TZID=Asia/Dubai:20240720T110000
DTEND;TZID=Asia/Dubai:20240720T120000
DTSTAMP:20260425T151026
CREATED:20240628T212132Z
LAST-MODIFIED:20240628T212132Z
UID:2562-1721473200-1721476800@dancehallfit.com
SUMMARY:Dancehall Fit - July 20th Florida Blue
DESCRIPTION:Dancehall Fit \nDate: July 20th \nTime: 11am-12pm \nLocation: Florida Blue \n201 N West Shore Blvd \nTampa\, FL \n337609 \nCost: FREE to Community \n 
URL:https://dancehallfit.com/event/dancehall-fit-july-20th-florida-blue/
LOCATION:Florida Blue\, 2567 Countryside Blvd\, Clearwater\, FL\, 33761\, United States
CATEGORIES:Dancehall Fit Everyone
END:VEVENT
BEGIN:VEVENT
DTSTART;TZID=Asia/Dubai:20240718T173000
DTEND;TZID=Asia/Dubai:20240718T183000
DTSTAMP:20260425T151026
CREATED:20240628T211957Z
LAST-MODIFIED:20240628T211957Z
UID:2560-1721323800-1721327400@dancehallfit.com
SUMMARY:Dancehall Fit - July 18th Florida Blue
DESCRIPTION:Dancehall Fit \nDate: July 18th \nTime: 5:30pm – 6:30pm \nLocation: Florida Blue \n2567 Countryside Blvd \nClearwater\, FL \n33761 \nCost: FREE to Community \n 
URL:https://dancehallfit.com/event/dancehall-fit-july-18th-florida-blue/
LOCATION:Florida Blue\, 2567 Countryside Blvd\, Clearwater\, FL\, 33761\, United States
CATEGORIES:Dancehall Fit Everyone
END:VEVENT
BEGIN:VEVENT
DTSTART;TZID=Asia/Dubai:20240713T110000
DTEND;TZID=Asia/Dubai:20240713T120000
DTSTAMP:20260425T151026
CREATED:20240628T212037Z
LAST-MODIFIED:20240628T212037Z
UID:2561-1720868400-1720872000@dancehallfit.com
SUMMARY:Dancehall Fit - July 13th Florida Blue
DESCRIPTION:Dancehall Fit \nDate: July 13th \nTime: 11am – 12pm \nLocation: Florida Blue \n2567 Countryside Blvd \nClearwater\, FL \n33761 \nCost: FREE to Community \n 
URL:https://dancehallfit.com/event/dancehall-fit-july-13th-florida-blue/
LOCATION:Florida Blue\, 2567 Countryside Blvd\, Clearwater\, FL\, 33761\, United States
CATEGORIES:Dancehall Fit Everyone
END:VEVENT
BEGIN:VEVENT
DTSTART;TZID=Asia/Dubai:20240620T173000
DTEND;TZID=Asia/Dubai:20240620T183000
DTSTAMP:20260425T151026
CREATED:20240603T224311Z
LAST-MODIFIED:20240603T224311Z
UID:2187-1718904600-1718908200@dancehallfit.com
SUMMARY:Dancehall Fit - June 20th Florida Blue
DESCRIPTION:Dancehall Fit \nDate: June 20th \nTime: 5:30pm – 6:30pm \nLocation: Florida Blue \n2567 Countryside Blvd \nClearwater\, FL \n33761 \nCost: FREE to Community \n 
URL:https://dancehallfit.com/event/dancehall-fit-june-20th-florida-blue/
CATEGORIES:Dancehall Fit Everyone
END:VEVENT
BEGIN:VEVENT
DTSTART;TZID=Asia/Dubai:20240615T110000
DTEND;TZID=Asia/Dubai:20240615T120000
DTSTAMP:20260425T151026
CREATED:20240603T223724Z
LAST-MODIFIED:20240603T223724Z
UID:2192-1718449200-1718452800@dancehallfit.com
SUMMARY:Dancehall Fit - June 15th
DESCRIPTION:Dancehall Fit \nDate: June 15th \nTime: 11am-12pm \nLocation: Florida Blue \n201 N West Shore Blvd \nTampa\, FL \n337609 \nCost: FREE to Community \n 
URL:https://dancehallfit.com/event/dancehall-fit-june-15th/
LOCATION:Florida Blue\, 2567 Countryside Blvd\, Clearwater\, FL\, 33761\, United States
CATEGORIES:Dancehall Fit Everyone
END:VEVENT
END:VCALENDAR