BEGIN:VCALENDAR
VERSION:2.0
PRODID:-//Dancehall Fit - ECPv6.15.17//NONSGML v1.0//EN
CALSCALE:GREGORIAN
METHOD:PUBLISH
X-WR-CALNAME:Dancehall Fit
X-ORIGINAL-URL:https://dancehallfit.com
X-WR-CALDESC:Events for Dancehall Fit
REFRESH-INTERVAL;VALUE=DURATION:PT1H
X-Robots-Tag:noindex
X-PUBLISHED-TTL:PT1H
BEGIN:VTIMEZONE
TZID:Asia/Dubai
BEGIN:STANDARD
TZOFFSETFROM:+0400
TZOFFSETTO:+0400
TZNAME:+04
DTSTART:20230101T000000
END:STANDARD
END:VTIMEZONE
BEGIN:VTIMEZONE
TZID:UTC
BEGIN:STANDARD
TZOFFSETFROM:+0000
TZOFFSETTO:+0000
TZNAME:UTC
DTSTART:20230101T000000
END:STANDARD
END:VTIMEZONE
BEGIN:VEVENT
DTSTART;TZID=Asia/Dubai:20240810T110000
DTEND;TZID=Asia/Dubai:20240810T120000
DTSTAMP:20260425T133316
CREATED:20240801T201554Z
LAST-MODIFIED:20240801T201554Z
UID:2785-1723287600-1723291200@dancehallfit.com
SUMMARY:Dancehall Fit - August 10th Florida Blue
DESCRIPTION:Dancehall Fit \nDate: August 10th \nTime: 11am – 12pm \nLocation: Florida Blue \n2567 Countryside Blvd \nClearwater\, FL \n33761 \nCost: FREE to Community
URL:https://dancehallfit.com/event/dancehall-fit-august-10th-florida-blue/
LOCATION:Florida Blue\, 2567 Countryside Blvd\, Clearwater\, FL\, 33761\, United States
CATEGORIES:Dancehall Fit Everyone
END:VEVENT
BEGIN:VEVENT
DTSTART;TZID=Asia/Dubai:20240720T110000
DTEND;TZID=Asia/Dubai:20240720T120000
DTSTAMP:20260425T133316
CREATED:20240628T212132Z
LAST-MODIFIED:20240628T212132Z
UID:2562-1721473200-1721476800@dancehallfit.com
SUMMARY:Dancehall Fit - July 20th Florida Blue
DESCRIPTION:Dancehall Fit \nDate: July 20th \nTime: 11am-12pm \nLocation: Florida Blue \n201 N West Shore Blvd \nTampa\, FL \n337609 \nCost: FREE to Community \n 
URL:https://dancehallfit.com/event/dancehall-fit-july-20th-florida-blue/
LOCATION:Florida Blue\, 2567 Countryside Blvd\, Clearwater\, FL\, 33761\, United States
CATEGORIES:Dancehall Fit Everyone
END:VEVENT
BEGIN:VEVENT
DTSTART;TZID=Asia/Dubai:20240718T173000
DTEND;TZID=Asia/Dubai:20240718T183000
DTSTAMP:20260425T133316
CREATED:20240628T211957Z
LAST-MODIFIED:20240628T211957Z
UID:2560-1721323800-1721327400@dancehallfit.com
SUMMARY:Dancehall Fit - July 18th Florida Blue
DESCRIPTION:Dancehall Fit \nDate: July 18th \nTime: 5:30pm – 6:30pm \nLocation: Florida Blue \n2567 Countryside Blvd \nClearwater\, FL \n33761 \nCost: FREE to Community \n 
URL:https://dancehallfit.com/event/dancehall-fit-july-18th-florida-blue/
LOCATION:Florida Blue\, 2567 Countryside Blvd\, Clearwater\, FL\, 33761\, United States
CATEGORIES:Dancehall Fit Everyone
END:VEVENT
BEGIN:VEVENT
DTSTART;TZID=Asia/Dubai:20240713T110000
DTEND;TZID=Asia/Dubai:20240713T120000
DTSTAMP:20260425T133316
CREATED:20240628T212037Z
LAST-MODIFIED:20240628T212037Z
UID:2561-1720868400-1720872000@dancehallfit.com
SUMMARY:Dancehall Fit - July 13th Florida Blue
DESCRIPTION:Dancehall Fit \nDate: July 13th \nTime: 11am – 12pm \nLocation: Florida Blue \n2567 Countryside Blvd \nClearwater\, FL \n33761 \nCost: FREE to Community \n 
URL:https://dancehallfit.com/event/dancehall-fit-july-13th-florida-blue/
LOCATION:Florida Blue\, 2567 Countryside Blvd\, Clearwater\, FL\, 33761\, United States
CATEGORIES:Dancehall Fit Everyone
END:VEVENT
BEGIN:VEVENT
DTSTART;TZID=Asia/Dubai:20240620T173000
DTEND;TZID=Asia/Dubai:20240620T183000
DTSTAMP:20260425T133316
CREATED:20240603T224311Z
LAST-MODIFIED:20240603T224311Z
UID:2187-1718904600-1718908200@dancehallfit.com
SUMMARY:Dancehall Fit - June 20th Florida Blue
DESCRIPTION:Dancehall Fit \nDate: June 20th \nTime: 5:30pm – 6:30pm \nLocation: Florida Blue \n2567 Countryside Blvd \nClearwater\, FL \n33761 \nCost: FREE to Community \n 
URL:https://dancehallfit.com/event/dancehall-fit-june-20th-florida-blue/
CATEGORIES:Dancehall Fit Everyone
END:VEVENT
BEGIN:VEVENT
DTSTART;TZID=Asia/Dubai:20240615T110000
DTEND;TZID=Asia/Dubai:20240615T120000
DTSTAMP:20260425T133316
CREATED:20240603T223724Z
LAST-MODIFIED:20240603T223724Z
UID:2192-1718449200-1718452800@dancehallfit.com
SUMMARY:Dancehall Fit - June 15th
DESCRIPTION:Dancehall Fit \nDate: June 15th \nTime: 11am-12pm \nLocation: Florida Blue \n201 N West Shore Blvd \nTampa\, FL \n337609 \nCost: FREE to Community \n 
URL:https://dancehallfit.com/event/dancehall-fit-june-15th/
LOCATION:Florida Blue\, 2567 Countryside Blvd\, Clearwater\, FL\, 33761\, United States
CATEGORIES:Dancehall Fit Everyone
END:VEVENT
BEGIN:VEVENT
DTSTART;TZID=Asia/Dubai:20240608T110000
DTEND;TZID=Asia/Dubai:20240608T120000
DTSTAMP:20260425T133316
CREATED:20240603T222801Z
LAST-MODIFIED:20240603T222801Z
UID:2200-1717844400-1717848000@dancehallfit.com
SUMMARY:Dancehall Fit - June 8th
DESCRIPTION:Dancehall Fit \nDate: June 8th \nTime: 11am – 12pm \nLocation: Florida Blue \n2567 Countryside Blvd \nClearwater\, FL \n33761 \nCost: FREE to Community \n 
URL:https://dancehallfit.com/event/dancehall-fit-june-8th/
LOCATION:Florida Blue\, 2567 Countryside Blvd\, Clearwater\, FL\, 33761\, United States
CATEGORIES:Dancehall Fit Everyone
END:VEVENT
BEGIN:VEVENT
DTSTART;TZID=UTC:20240523T173000
DTEND;TZID=UTC:20240523T183000
DTSTAMP:20260425T133316
CREATED:20240301T214044Z
LAST-MODIFIED:20240515T161853Z
UID:1153-1716485400-1716489000@dancehallfit.com
SUMMARY:Dancehall Fit - Florida Blue  - Clearwater - May 23rd
DESCRIPTION:Dancehall Fit  \nDate: May 23rd \nTime: 5:30pm – 6:30pm \nLocation: Florida Blue | 2567 Countryside Blvd\, Clearwater\, FL\, 33761 \nCost: FREE to Community \n 
URL:https://dancehallfit.com/event/dancehall-fit-3/
LOCATION:Florida Blue\, 2567 Countryside Blvd\, Clearwater\, FL\, 33761\, United States
CATEGORIES:Dancehall Fit Everyone,Free for Everyone
END:VEVENT
BEGIN:VEVENT
DTSTART;TZID=UTC:20240518T110000
DTEND;TZID=UTC:20240518T120000
DTSTAMP:20260425T133316
CREATED:20240301T214842Z
LAST-MODIFIED:20240515T163700Z
UID:1160-1716030000-1716033600@dancehallfit.com
SUMMARY:Dancehall Fit - Florida Blue Tampa - May 18th
DESCRIPTION:Date: May 18th \nTime: 11am-12pm \nLocation: Florida Blue | 201 N West Shore Blvd\, Tampa\, FL\, 337609 \nCost: FREE to Community \n 
URL:https://dancehallfit.com/event/dancehall-fit-4/
CATEGORIES:Dancehall Fit Everyone
END:VEVENT
BEGIN:VEVENT
DTSTART;TZID=UTC:20240511T110000
DTEND;TZID=UTC:20240511T120000
DTSTAMP:20260425T133316
CREATED:20240402T171218Z
LAST-MODIFIED:20240515T164131Z
UID:1319-1715425200-1715428800@dancehallfit.com
SUMMARY:Dancehall Fit - Florida Blue - May 11th
DESCRIPTION:Date: May 11th \nTime: 11am – 12pm \nLocation: Florida Blue | 2567 Countryside Blvd\, Clearwater\, FL\, 33761 \nCost: FREE to Community \n 
URL:https://dancehallfit.com/event/dancehall-fit-florida-blue/
LOCATION:Florida Blue\, 2567 Countryside Blvd\, Clearwater\, FL\, 33761\, United States
CATEGORIES:Dancehall Fit Everyone
END:VEVENT
BEGIN:VEVENT
DTSTART;TZID=Asia/Dubai:20240420T110000
DTEND;TZID=Asia/Dubai:20240420T120000
DTSTAMP:20260425T133316
CREATED:20240604T131711Z
LAST-MODIFIED:20240604T131711Z
UID:2235-1713610800-1713614400@dancehallfit.com
SUMMARY:Dancehall Fit - April 20th
DESCRIPTION:Dancehall Fit\nDate: April 20th\nTime: 11am-12pm\nLocation: Florida Blue\n                201 N West Shore Blvd\n                Tampa\, FL\n                337609\nCost: FREE to Community\n 
URL:https://dancehallfit.com/event/dancehall-fit-april-20th/
LOCATION:Florida Blue\, 2567 Countryside Blvd\, Clearwater\, FL\, 33761\, United States
CATEGORIES:Dancehall Fit Everyone
END:VEVENT
BEGIN:VEVENT
DTSTART;TZID=Asia/Dubai:20240418T173000
DTEND;TZID=Asia/Dubai:20240418T183000
DTSTAMP:20260425T133316
CREATED:20240604T131418Z
LAST-MODIFIED:20240604T175350Z
UID:2237-1713461400-1713465000@dancehallfit.com
SUMMARY:Dancehall Fit - April 18th
DESCRIPTION:Dancehall Fit\nDate: April 18th\nTime: 5:30pm – 6:30pm\nLocation: Florida Blue\n                2567 Countryside Blvd\n                Clearwater\, FL\n                33761\nCost: FREE to Community\n 
URL:https://dancehallfit.com/event/dancehall-fit-april-18th/
LOCATION:Florida Blue\, 2567 Countryside Blvd\, Clearwater\, FL\, 33761\, United States
CATEGORIES:Dancehall Fit Everyone
END:VEVENT
BEGIN:VEVENT
DTSTART;TZID=UTC:20240406T140000
DTEND;TZID=UTC:20240406T160000
DTSTAMP:20260425T133316
CREATED:20240402T171732Z
LAST-MODIFIED:20240515T165737Z
UID:1321-1712412000-1712419200@dancehallfit.com
SUMMARY:Youth Fitness Day - Apr 06
DESCRIPTION:Youth Fitness Day \nDate: April 6th \nTime: 2pm-4pm \nLocation: Pearlena’s Adult Activity Center | 9309 N Florida Ave\, Ste 101\, Tampa\, FL\, 33612 \nCost: FREE for Seniors \n 
URL:https://dancehallfit.com/event/youth-fitness-day-apr-06/
LOCATION:Pearlenas Adult Activity Center\, 9309 N Florida Ave\, Ste 101\, Tampa\, 33612\, United States
CATEGORIES:Dancehall Fit Everyone
END:VEVENT
BEGIN:VEVENT
DTSTART;TZID=Asia/Dubai:20240326T190000
DTEND;TZID=Asia/Dubai:20240326T200000
DTSTAMP:20260425T133316
CREATED:20240528T093136Z
LAST-MODIFIED:20240606T151154Z
UID:1900-1711479600-1711483200@dancehallfit.com
SUMMARY:Dancehall Fit - March 26
DESCRIPTION:Date: March 26th \nTime: 7pm-8pm \nLocation: Pure Lava Dance Studio \n                2242 University Square Mall \n                Tampa\, FL \n                 33612 \nCost: $10.00 per Class  \n 
URL:https://dancehallfit.com/event/dancehall-fit-march-26/
LOCATION:Pure Lava Dance Studio\, 2242 University Square Mall\, Tampa\, 33612\, United States
CATEGORIES:Dancehall Fit Everyone
END:VEVENT
BEGIN:VEVENT
DTSTART;TZID=Asia/Dubai:20240316T110000
DTEND;TZID=Asia/Dubai:20240316T120000
DTSTAMP:20260425T133316
CREATED:20240528T094717Z
LAST-MODIFIED:20240528T094717Z
UID:1919-1710586800-1710590400@dancehallfit.com
SUMMARY:Dancehall Fit - March 16th
DESCRIPTION:Dancehall Fit  \nDate: March 16 \nTime: 11am-12pm \nLocation: Florida Blue \n                201 N West Shore Blvd \n                Tampa\, FL \n                337609 \nCost: FREE to Community
URL:https://dancehallfit.com/event/dancehall-fit-march-16th/
CATEGORIES:Dancehall Fit Everyone
END:VEVENT
BEGIN:VEVENT
DTSTART;TZID=Asia/Dubai:20240314T173000
DTEND;TZID=Asia/Dubai:20240314T183000
DTSTAMP:20260425T133316
CREATED:20240528T094322Z
LAST-MODIFIED:20240528T094322Z
UID:1915-1710437400-1710441000@dancehallfit.com
SUMMARY:Dancehall Fit - March 14th
DESCRIPTION:Dancehall Fit  \nDate: March 14th \nTime: 5:30pm – 6:30pm \nLocation: Florida Blue  \n                2567 Countryside Blvd \n                Clearwater\, FL \n                33761 \nCost: FREE to Community \n 
URL:https://dancehallfit.com/event/dancehall-fit-events-march-14th/
LOCATION:Florida Blue\, 2567 Countryside Blvd\, Clearwater\, FL\, 33761\, United States
CATEGORIES:Dancehall Fit Everyone
END:VEVENT
BEGIN:VEVENT
DTSTART;TZID=Asia/Dubai:20240312T190000
DTEND;TZID=Asia/Dubai:20240312T200000
DTSTAMP:20260425T133316
CREATED:20240528T092955Z
LAST-MODIFIED:20240528T093651Z
UID:1897-1710270000-1710273600@dancehallfit.com
SUMMARY:Dancehall Fit - March 12th
DESCRIPTION:Date: March 12th \nTime: 7pm-8pm \nLocation: Pure Lava Dance Studio \n                2242 University Square Mall \n                Tampa\, FL \n                 33612 \nCost: $10.00 per Class  \n 
URL:https://dancehallfit.com/event/dancehall-fit-march-12/
LOCATION:Pure Lava Dance Studio\, 2242 University Square Mall\, Tampa\, 33612\, United States
CATEGORIES:Dancehall Fit Everyone,Seniors
END:VEVENT
BEGIN:VEVENT
DTSTART;TZID=Asia/Dubai:20240309T110000
DTEND;TZID=Asia/Dubai:20240309T120000
DTSTAMP:20260425T133316
CREATED:20240528T100138Z
LAST-MODIFIED:20240528T100138Z
UID:1929-1709982000-1709985600@dancehallfit.com
SUMMARY:Dancehall Fit - March 9th
DESCRIPTION:Dancehall Fit  \nDate: March 9th \nTime: 11am – 12pm \nLocation: Florida Blue  \n                2567 Countryside Blvd \n                Clearwater\, FL \n                33761 \nCost: FREE to Community \n 
URL:https://dancehallfit.com/event/dancehall-fit-events-march-9th/
LOCATION:Florida Blue\, 2567 Countryside Blvd\, Clearwater\, FL\, 33761\, United States
CATEGORIES:Dancehall Fit Everyone
END:VEVENT
BEGIN:VEVENT
DTSTART;TZID=Asia/Dubai:20240227T190000
DTEND;TZID=Asia/Dubai:20240227T200000
DTSTAMP:20260425T133316
CREATED:20240528T101601Z
LAST-MODIFIED:20240528T101605Z
UID:1953-1709060400-1709064000@dancehallfit.com
SUMMARY:Dancehall Fit - February 27th
DESCRIPTION:Dancehall Fit  \nDate: February 27th \nTime: 7pm-8pm \nLocation: Pure Lava Dance Studio \n                2242 University Square Mall \n                Tampa\, FL \n                 33612 \nCost: $10.00 per Class  \n 
URL:https://dancehallfit.com/event/dancehall-fit-february-27th/
LOCATION:Pure Lava Dance Studio\, 2242 University Square Mall\, Tampa\, 33612\, United States
CATEGORIES:Dancehall Fit Everyone
END:VEVENT
BEGIN:VEVENT
DTSTART;TZID=Asia/Dubai:20240224T110000
DTEND;TZID=Asia/Dubai:20240224T120000
DTSTAMP:20260425T133316
CREATED:20240528T103025Z
LAST-MODIFIED:20240528T103025Z
UID:1982-1708772400-1708776000@dancehallfit.com
SUMMARY:Dancehall Fit - February 24th
DESCRIPTION:Dancehall Fit  \nDate: February 24th \nTime: 11am – 12pm \nLocation: Florida Blue  \n                2567 Countryside Blvd \n                Clearwater\, FL \n                33761 \nCost: FREE to Community \n 
URL:https://dancehallfit.com/event/dancehall-fit-february-24th/
CATEGORIES:Dancehall Fit Everyone
END:VEVENT
BEGIN:VEVENT
DTSTART;TZID=Asia/Dubai:20240220T190000
DTEND;TZID=Asia/Dubai:20240220T200000
DTSTAMP:20260425T133316
CREATED:20240528T101458Z
LAST-MODIFIED:20240528T101551Z
UID:1952-1708455600-1708459200@dancehallfit.com
SUMMARY:Dancehall Fit - February 20th
DESCRIPTION:Dancehall Fit  \nDate: February 20th \nTime: 7pm-8pm \nLocation: Pure Lava Dance Studio \n                2242 University Square Mall \n                Tampa\, FL \n                 33612 \nCost: $10.00 per Class  \n 
URL:https://dancehallfit.com/event/dancehall-fit-february-20th/
LOCATION:Pure Lava Dance Studio\, 2242 University Square Mall\, Tampa\, 33612\, United States
CATEGORIES:Dancehall Fit Everyone
END:VEVENT
BEGIN:VEVENT
DTSTART;TZID=Asia/Dubai:20240217T110000
DTEND;TZID=Asia/Dubai:20240217T120000
DTSTAMP:20260425T133316
CREATED:20240528T102608Z
LAST-MODIFIED:20240528T102608Z
UID:1976-1708167600-1708171200@dancehallfit.com
SUMMARY:Dancehall Fit - February 17th
DESCRIPTION:Dancehall Fit  \nDate: February 17th \nTime: 11am-12pm \nLocation: Florida Blue \n                201 N West Shore Blvd \n                Tampa\, FL \n                337609 \nCost: FREE to Community \n 
URL:https://dancehallfit.com/event/dancehall-fit-february-17th/
LOCATION:Florida Blue\, 2567 Countryside Blvd\, Clearwater\, FL\, 33761\, United States
CATEGORIES:Dancehall Fit Everyone
END:VEVENT
BEGIN:VEVENT
DTSTART;TZID=Asia/Dubai:20240215T173000
DTEND;TZID=Asia/Dubai:20240215T183000
DTSTAMP:20260425T133316
CREATED:20240528T102431Z
LAST-MODIFIED:20240606T192822Z
UID:1969-1708018200-1708021800@dancehallfit.com
SUMMARY:Dancehall Fit - February 15th
DESCRIPTION:Dancehall Fit  \nDate: February 15th \nTime: 5:30pm – 6:30pm \nLocation: Florida Blue  \n                2567 Countryside Blvd \n                Clearwater\, FL \n                33761 \nCost: FREE to Community \n 
URL:https://dancehallfit.com/event/dancehall-fit-february-15th/
LOCATION:Florida Blue\, 2567 Countryside Blvd\, Clearwater\, FL\, 33761\, United States
CATEGORIES:Dancehall Fit Everyone
END:VEVENT
BEGIN:VEVENT
DTSTART;TZID=Asia/Dubai:20240213T190000
DTEND;TZID=Asia/Dubai:20240213T200000
DTSTAMP:20260425T133316
CREATED:20240528T101226Z
LAST-MODIFIED:20240528T101539Z
UID:1944-1707850800-1707854400@dancehallfit.com
SUMMARY:Dancehall Fit - February 13th
DESCRIPTION:Dancehall Fit  \nDate: February 13th \nTime: 7pm-8pm \nLocation: Pure Lava Dance Studio \n                2242 University Square Mall \n                Tampa\, FL \n                 33612 \nCost: $10.00 per Class  \n 
URL:https://dancehallfit.com/event/dancehall-fit-february-13th/
LOCATION:Pure Lava Dance Studio\, 2242 University Square Mall\, Tampa\, 33612\, United States
CATEGORIES:Dancehall Fit Everyone
END:VEVENT
BEGIN:VEVENT
DTSTART;TZID=Asia/Dubai:20240206T190000
DTEND;TZID=Asia/Dubai:20240206T200000
DTSTAMP:20260425T133316
CREATED:20240528T101044Z
LAST-MODIFIED:20240528T101342Z
UID:1942-1707246000-1707249600@dancehallfit.com
SUMMARY:Dancehall Fit - February 6th
DESCRIPTION:Dancehall Fit  \nDate: February 6th \nTime: 7pm-8pm \nLocation: Pure Lava Dance Studio \n                2242 University Square Mall \n                Tampa\, FL \n                 33612 \nCost: $10.00 per Class  \n 
URL:https://dancehallfit.com/event/dancehall-fit-february-6th/
LOCATION:Pure Lava Dance Studio\, 2242 University Square Mall\, Tampa\, 33612\, United States
CATEGORIES:Dancehall Fit Everyone
END:VEVENT
BEGIN:VEVENT
DTSTART;TZID=Asia/Dubai:20240130T190000
DTEND;TZID=Asia/Dubai:20240130T200000
DTSTAMP:20260425T133316
CREATED:20240528T104128Z
LAST-MODIFIED:20240528T104128Z
UID:1998-1706641200-1706644800@dancehallfit.com
SUMMARY:Dancehall Fit - January 30th
DESCRIPTION:Dancehall Fit  \nDate: January 30th \nTime: 7pm-8pm \nLocation: Pure Lava Dance Studio \n                2242 University Square Mall \n                Tampa\, FL \n                 33612 \nCost: $10.00 per Class  \n 
URL:https://dancehallfit.com/event/dancehall-fit-january-30th/
LOCATION:Pure Lava Dance Studio\, 2242 University Square Mall\, Tampa\, 33612\, United States
CATEGORIES:Dancehall Fit Everyone
END:VEVENT
BEGIN:VEVENT
DTSTART;TZID=Asia/Dubai:20240123T190000
DTEND;TZID=Asia/Dubai:20240123T200000
DTSTAMP:20260425T133316
CREATED:20240528T104113Z
LAST-MODIFIED:20240528T104113Z
UID:1997-1706036400-1706040000@dancehallfit.com
SUMMARY:Dancehall Fit - January 23rd
DESCRIPTION:Dancehall Fit  \nDate: January 23rd \nTime: 7pm-8pm \nLocation: Pure Lava Dance Studio \n                2242 University Square Mall \n                Tampa\, FL \n                 33612 \nCost: $10.00 per Class  \n 
URL:https://dancehallfit.com/event/dancehall-fit-january-23rd/
LOCATION:Pure Lava Dance Studio\, 2242 University Square Mall\, Tampa\, 33612\, United States
CATEGORIES:Dancehall Fit Everyone
END:VEVENT
BEGIN:VEVENT
DTSTART;TZID=Asia/Dubai:20240120T110000
DTEND;TZID=Asia/Dubai:20240120T120000
DTSTAMP:20260425T133316
CREATED:20240528T104835Z
LAST-MODIFIED:20240528T104835Z
UID:2009-1705748400-1705752000@dancehallfit.com
SUMMARY:Dancehall Fit - January 20th
DESCRIPTION:Dancehall Fit  \nDate: January 20th \nTime: 11am-12pm \nLocation: Florida Blue \n                201 N West Shore Blvd \n                Tampa\, FL \n                337609 \nCost: FREE to Community \n 
URL:https://dancehallfit.com/event/dancehall-fit-january-20th/
LOCATION:Florida Blue\, 2567 Countryside Blvd\, Clearwater\, FL\, 33761\, United States
CATEGORIES:Dancehall Fit Everyone
END:VEVENT
BEGIN:VEVENT
DTSTART;TZID=Asia/Dubai:20240118T173000
DTEND;TZID=Asia/Dubai:20240118T183000
DTSTAMP:20260425T133316
CREATED:20240528T104755Z
LAST-MODIFIED:20240528T104755Z
UID:2010-1705599000-1705602600@dancehallfit.com
SUMMARY:Dancehall Fit - January 18th
DESCRIPTION:Dancehall Fit  \nDate:  January 18th \nTime: 5:30pm – 6:30pm \nLocation: Florida Blue  \n                2567 Countryside Blvd \n                Clearwater\, FL \n                33761 \nCost: FREE to Community \n 
URL:https://dancehallfit.com/event/dancehall-fit-january-18th/
LOCATION:Florida Blue\, 2567 Countryside Blvd\, Clearwater\, FL\, 33761\, United States
CATEGORIES:Dancehall Fit Everyone
END:VEVENT
BEGIN:VEVENT
DTSTART;TZID=Asia/Dubai:20240116T190000
DTEND;TZID=Asia/Dubai:20240116T200000
DTSTAMP:20260425T133316
CREATED:20240528T104100Z
LAST-MODIFIED:20240528T104100Z
UID:1996-1705431600-1705435200@dancehallfit.com
SUMMARY:Dancehall Fit - January 16th
DESCRIPTION:Dancehall Fit  \nDate: January 16th \nTime: 7pm-8pm \nLocation: Pure Lava Dance Studio \n                2242 University Square Mall \n                Tampa\, FL \n                 33612 \nCost: $10.00 per Class  \n 
URL:https://dancehallfit.com/event/dancehall-fit-january-16th/
LOCATION:Pure Lava Dance Studio\, 2242 University Square Mall\, Tampa\, 33612\, United States
CATEGORIES:Dancehall Fit Everyone
END:VEVENT
END:VCALENDAR