BEGIN:VCALENDAR
VERSION:2.0
PRODID:-//Dancehall Fit - ECPv6.15.17//NONSGML v1.0//EN
CALSCALE:GREGORIAN
METHOD:PUBLISH
X-WR-CALNAME:Dancehall Fit
X-ORIGINAL-URL:https://dancehallfit.com
X-WR-CALDESC:Events for Dancehall Fit
REFRESH-INTERVAL;VALUE=DURATION:PT1H
X-Robots-Tag:noindex
X-PUBLISHED-TTL:PT1H
BEGIN:VTIMEZONE
TZID:Asia/Dubai
BEGIN:STANDARD
TZOFFSETFROM:+0400
TZOFFSETTO:+0400
TZNAME:+04
DTSTART:20250101T000000
END:STANDARD
END:VTIMEZONE
BEGIN:VEVENT
DTSTART;TZID=Asia/Dubai:20260112T110000
DTEND;TZID=Asia/Dubai:20260112T120000
DTSTAMP:20260425T150952
CREATED:20260108T154545Z
LAST-MODIFIED:20260108T154610Z
UID:4864-1768215600-1768219200@dancehallfit.com
SUMMARY:Dancehall Fit for Seniors: Stretch - January 12th The Skills Center
DESCRIPTION:Date: January 12th \nTime: 11am – 12pm \nLocation: \nThe Skills Center\n5107 N 22 nd St\nTampa\, FL 33610 \nCost: FREE 
URL:https://dancehallfit.com/event/dancehall-fit-for-seniors-january-12th-the-skills-center/
CATEGORIES:Seniors
END:VEVENT
BEGIN:VEVENT
DTSTART;TZID=Asia/Dubai:20260113T123000
DTEND;TZID=Asia/Dubai:20260113T133000
DTSTAMP:20260425T150952
CREATED:20260108T155307Z
LAST-MODIFIED:20260112T010622Z
UID:4875-1768307400-1768311000@dancehallfit.com
SUMMARY:Dancehall Fit for Seniors - January 13th Carver
DESCRIPTION:Date: January 13th \nTime: 12:30pm – 1:30pm \nLocation: \nCarver Recreation Center\n520 S Herbert Dixon Blvd.\nBartow\, FL 33830 \nCost: FREE 
URL:https://dancehallfit.com/event/dancehall-fit-for-seniors-january-13th-carver/
CATEGORIES:Seniors
END:VEVENT
BEGIN:VEVENT
DTSTART;TZID=Asia/Dubai:20260114T110000
DTEND;TZID=Asia/Dubai:20260114T120000
DTSTAMP:20260425T150952
CREATED:20260108T155701Z
LAST-MODIFIED:20260108T155701Z
UID:4881-1768388400-1768392000@dancehallfit.com
SUMMARY:Dancehall Fit for Seniors - January 14th The Skills Center
DESCRIPTION:Date: January 14th \nTime: 11am – 12pm \nLocation: \nThe Skills Center\n5107 N 22 nd St\nTampa\, FL 33610 \nCost: FREE 
URL:https://dancehallfit.com/event/dancehall-fit-for-seniors-january-14th-the-skills-center/
CATEGORIES:Seniors
END:VEVENT
BEGIN:VEVENT
DTSTART;TZID=Asia/Dubai:20260115T103000
DTEND;TZID=Asia/Dubai:20260115T113000
DTSTAMP:20260425T150952
CREATED:20260108T160627Z
LAST-MODIFIED:20260112T184221Z
UID:4889-1768473000-1768476600@dancehallfit.com
SUMMARY:Dancehall Fit for Seniors - January 15th Cyrus Green
DESCRIPTION:Date: January 15th \nTime: 10:30am – 11:30am \nLocation: \nCyrus Green Community Center\n2101 E Dr Martin Luther King Blvd.\nTampa\, FL  33610 \nCost: FREE to community
URL:https://dancehallfit.com/event/dancehall-fit-for-seniors-january-22nd-cyrus-green/
CATEGORIES:Seniors
END:VEVENT
BEGIN:VEVENT
DTSTART;TZID=Asia/Dubai:20260120T123000
DTEND;TZID=Asia/Dubai:20260120T133000
DTSTAMP:20260425T150952
CREATED:20260108T155452Z
LAST-MODIFIED:20260112T010718Z
UID:4877-1768912200-1768915800@dancehallfit.com
SUMMARY:Dancehall Fit for Seniors - January 20th Carver
DESCRIPTION:Date: January 20th \nTime: 12:30pm – 1:30pm \nLocation: \nCarver Recreation Center\n520 S Herbert Dixon Blvd.\nBartow\, FL 33830 \nCost: FREE 
URL:https://dancehallfit.com/event/dancehall-fit-for-seniors-january-20th-carver/
CATEGORIES:Seniors
END:VEVENT
BEGIN:VEVENT
DTSTART;TZID=Asia/Dubai:20260122T123000
DTEND;TZID=Asia/Dubai:20260122T133000
DTSTAMP:20260425T150952
CREATED:20260108T160358Z
LAST-MODIFIED:20260108T160358Z
UID:4885-1769085000-1769088600@dancehallfit.com
SUMMARY:Dancehall Fit for Seniors: Stretch - January 22nd Carver
DESCRIPTION:Date: January 22nd \nTime: 12:30pm – 1:30pm \nLocation: \nCarver Recreation Center\n520 S Herbert Dixon Blvd.\nBartow\, FL 33830 \nCost: FREE 
URL:https://dancehallfit.com/event/dancehall-fit-for-seniors-stretch-january-22nd-carver/
CATEGORIES:Seniors
END:VEVENT
BEGIN:VEVENT
DTSTART;TZID=Asia/Dubai:20260126T110000
DTEND;TZID=Asia/Dubai:20260126T120000
DTSTAMP:20260425T150952
CREATED:20260108T154701Z
LAST-MODIFIED:20260108T154701Z
UID:4873-1769425200-1769428800@dancehallfit.com
SUMMARY:Dancehall Fit for Seniors: Stretch - January 26th The Skills Center
DESCRIPTION:Date: January 26th \nTime: 11am – 12pm \nLocation: \nThe Skills Center\n5107 N 22 nd St\nTampa\, FL 33610 \nCost: FREE 
URL:https://dancehallfit.com/event/dancehall-fit-for-seniors-stretch-january-26th-the-skills-center/
CATEGORIES:Seniors
END:VEVENT
BEGIN:VEVENT
DTSTART;TZID=Asia/Dubai:20260127T123000
DTEND;TZID=Asia/Dubai:20260127T133000
DTSTAMP:20260425T150952
CREATED:20260108T161612Z
LAST-MODIFIED:20260112T010754Z
UID:4897-1769517000-1769520600@dancehallfit.com
SUMMARY:Dancehall Fit for Seniors - January 27th Carver
DESCRIPTION:Date: January 27th \nTime: 12:30pm – 1:30pm \nLocation: \nCarver Recreation Center\n520 S Herbert Dixon Blvd.\nBartow\, FL 33830 \nCost: FREE 
URL:https://dancehallfit.com/event/dancehall-fit-for-seniors-january-27th-carver/
CATEGORIES:Seniors
END:VEVENT
BEGIN:VEVENT
DTSTART;TZID=Asia/Dubai:20260128T110000
DTEND;TZID=Asia/Dubai:20260128T120000
DTSTAMP:20260425T150952
CREATED:20260108T155812Z
LAST-MODIFIED:20260108T155926Z
UID:4883-1769598000-1769601600@dancehallfit.com
SUMMARY:Dancehall Fit for Seniors - January 28th The Skills Center
DESCRIPTION:Date: January 28th \nTime: 11am – 12pm \nLocation: \nThe Skills Center\n5107 N 22 nd St\nTampa\, FL 33610 \nCost: FREE 
URL:https://dancehallfit.com/event/dancehall-fit-for-seniors-january-28th-the-skills-center/
CATEGORIES:Seniors
END:VEVENT
BEGIN:VEVENT
DTSTART;TZID=Asia/Dubai:20260129T100000
DTEND;TZID=Asia/Dubai:20260129T110000
DTSTAMP:20260425T150952
CREATED:20260108T161254Z
LAST-MODIFIED:20260122T184843Z
UID:4895-1769680800-1769684400@dancehallfit.com
SUMMARY:Dancehall Fit for Seniors - January 29th The Well
DESCRIPTION:Date: January 29th \nTime: 10am – 11am \nLocation: \nThe Well Tampa \n5110 N 40th St \nTampa\, FL 33610 \nCost: FREE for seniors \n \n 
URL:https://dancehallfit.com/event/dancehall-fit-for-seniors-january-29th-the-well/
CATEGORIES:Seniors
END:VEVENT
BEGIN:VEVENT
DTSTART;TZID=Asia/Dubai:20260129T123000
DTEND;TZID=Asia/Dubai:20260129T133000
DTSTAMP:20260425T150952
CREATED:20260108T160451Z
LAST-MODIFIED:20260128T140451Z
UID:4887-1769689800-1769693400@dancehallfit.com
SUMMARY:Dancehall Fit for Seniors: Stretch - January 29th Carver
DESCRIPTION:Date: January 29th \nTime: 12:30pm – 1:30pm \nLocation: \nCarver Recreation Center\n520 S Herbert Dixon Blvd.\nBartow\, FL 33830 \nCost: FREE 
URL:https://dancehallfit.com/event/dancehall-fit-for-seniors-stretch-january-29th-carver/
CATEGORIES:Seniors
END:VEVENT
END:VCALENDAR