BEGIN:VCALENDAR
VERSION:2.0
PRODID:-//Dancehall Fit - ECPv6.15.17//NONSGML v1.0//EN
CALSCALE:GREGORIAN
METHOD:PUBLISH
X-ORIGINAL-URL:https://dancehallfit.com
X-WR-CALDESC:Events for Dancehall Fit
REFRESH-INTERVAL;VALUE=DURATION:PT1H
X-Robots-Tag:noindex
X-PUBLISHED-TTL:PT1H
BEGIN:VTIMEZONE
TZID:Asia/Dubai
BEGIN:STANDARD
TZOFFSETFROM:+0400
TZOFFSETTO:+0400
TZNAME:+04
DTSTART:20250101T000000
END:STANDARD
END:VTIMEZONE
BEGIN:VEVENT
DTSTART;TZID=Asia/Dubai:20260407T123000
DTEND;TZID=Asia/Dubai:20260407T133000
DTSTAMP:20260425T165700
CREATED:20260401T225251Z
LAST-MODIFIED:20260401T225251Z
UID:5313-1775565000-1775568600@dancehallfit.com
SUMMARY:Dancehall Fit for Seniors - April 7th Carver
DESCRIPTION:Date: Tuesdays \nTime: 12:30pm – 1:30pm \nLocation: \nCarver Recreation Center\n520 S Herbert Dixon Blvd.\nBartow\, FL 33830 \nCost: FREE 
URL:https://dancehallfit.com/event/dancehall-fit-for-seniors-april-7th-carver/
CATEGORIES:Seniors
END:VEVENT
BEGIN:VEVENT
DTSTART;TZID=Asia/Dubai:20260407T103000
DTEND;TZID=Asia/Dubai:20260407T113000
DTSTAMP:20260425T165700
CREATED:20260401T223427Z
LAST-MODIFIED:20260401T223427Z
UID:5295-1775557800-1775561400@dancehallfit.com
SUMMARY:Dancehall Fit for Seniors - April 7th Fair Oaks
DESCRIPTION:Date: April 7th \nTime: 10:30am – 11:30am \nLocation: \nFair Oaks Community Center\n3400 E Louisiana Ave\nTampa\, FL 33610\nCost: FREE 
URL:https://dancehallfit.com/event/dancehall-fit-for-seniors-april-7th-fair-oaks/
CATEGORIES:Seniors
END:VEVENT
BEGIN:VEVENT
DTSTART;TZID=Asia/Dubai:20260406T100000
DTEND;TZID=Asia/Dubai:20260406T110000
DTSTAMP:20260425T165700
CREATED:20260401T222301Z
LAST-MODIFIED:20260401T222301Z
UID:5267-1775469600-1775473200@dancehallfit.com
SUMMARY:Dancehall Fit for Seniors: Stretch - April 6th The Skills Center
DESCRIPTION:Date: April 6th \nTime: 10am – 11am \nLocation: \nThe Skills Center\n5107 N 22 nd St\nTampa\, FL 33610 \nCost: FREE 
URL:https://dancehallfit.com/event/dancehall-fit-for-seniors-stretch-april-6th-the-skills-center/
CATEGORIES:Seniors
END:VEVENT
BEGIN:VEVENT
DTSTART;TZID=Asia/Dubai:20260402T153000
DTEND;TZID=Asia/Dubai:20260402T163000
DTSTAMP:20260425T165700
CREATED:20260308T144431Z
LAST-MODIFIED:20260308T144442Z
UID:5226-1775143800-1775147400@dancehallfit.com
SUMMARY:Dancehall Fit for Seniors - April 2nd Gulfport
DESCRIPTION:Date: April 2nd \nTime: 3:30pm – 4:30pm \nLocation: \nGulfport Multipurpose Senior Center\n5501 27th Ave S.\, Gulfport\nGulfport\, FL 33707 \nCost: FREE 
URL:https://dancehallfit.com/event/dancehall-fit-for-seniors-april-2nd-access-center/
CATEGORIES:Seniors
END:VEVENT
BEGIN:VEVENT
DTSTART;TZID=Asia/Dubai:20260402T103000
DTEND;TZID=Asia/Dubai:20260402T113000
DTSTAMP:20260425T165700
CREATED:20260302T225606Z
LAST-MODIFIED:20260315T204219Z
UID:5196-1775125800-1775129400@dancehallfit.com
SUMMARY:Dancehall Fit for Seniors - April 2nd Cyrus Green
DESCRIPTION:Date: April 2nd \nTime: 10:30am – 11:30am \nLocation: \nCyrus Green Community Center\n2101 E Dr Martin Luther King Blvd.\nTampa\, FL  33610 \nCost: FREE to community
URL:https://dancehallfit.com/event/dancehall-fit-for-seniors-march-19th-cyrus-green/
CATEGORIES:Seniors
END:VEVENT
BEGIN:VEVENT
DTSTART;TZID=Asia/Dubai:20260331T123000
DTEND;TZID=Asia/Dubai:20260331T133000
DTSTAMP:20260425T165700
CREATED:20260302T130654Z
LAST-MODIFIED:20260302T130654Z
UID:5157-1774960200-1774963800@dancehallfit.com
SUMMARY:Dancehall Fit for Seniors - March 31st Carver
DESCRIPTION:Date: March 31st \nTime: 12:30pm – 1:30pm \nLocation: \nCarver Recreation Center\n520 S Herbert Dixon Blvd.\nBartow\, FL 33830 \nCost: FREE 
URL:https://dancehallfit.com/event/dancehall-fit-for-seniors-march-31st-carver/
CATEGORIES:Seniors
END:VEVENT
BEGIN:VEVENT
DTSTART;TZID=Asia/Dubai:20260326T110000
DTEND;TZID=Asia/Dubai:20260326T120000
DTSTAMP:20260425T165700
CREATED:20260323T190127Z
LAST-MODIFIED:20260323T190127Z
UID:5254-1774522800-1774526400@dancehallfit.com
SUMMARY:Dancehall Fit for Seniors - March 26th The Skills Center
DESCRIPTION:Date: March 26th \nTime: 11am – 12pm \nLocation: \nThe Skills Center\n5107 N 22nd St\nTampa\, FL 33610 \nCost: FREE 
URL:https://dancehallfit.com/event/dancehall-fit-for-seniors-march-26th-the-skills-center-2/
CATEGORIES:Seniors
END:VEVENT
BEGIN:VEVENT
DTSTART;TZID=Asia/Dubai:20260325T110000
DTEND;TZID=Asia/Dubai:20260325T120000
DTSTAMP:20260425T165700
CREATED:20260302T225053Z
LAST-MODIFIED:20260302T225053Z
UID:5192-1774436400-1774440000@dancehallfit.com
SUMMARY:Dancehall Fit for Seniors - March 25th The Skills Center
DESCRIPTION:Date: March 25th \nTime: 11am – 12pm \nLocation: \nThe Skills Center\n5107 N 22nd St\nTampa\, FL 33610 \nCost: FREE 
URL:https://dancehallfit.com/event/dancehall-fit-for-seniors-march-25th-the-skills-center/
CATEGORIES:Seniors
END:VEVENT
BEGIN:VEVENT
DTSTART;TZID=Asia/Dubai:20260324T123000
DTEND;TZID=Asia/Dubai:20260324T133000
DTSTAMP:20260425T165701
CREATED:20260302T130615Z
LAST-MODIFIED:20260302T130615Z
UID:5154-1774355400-1774359000@dancehallfit.com
SUMMARY:Dancehall Fit for Seniors - March 24th Carver
DESCRIPTION:Date: March 24th \nTime: 12:30pm – 1:30pm \nLocation: \nCarver Recreation Center\n520 S Herbert Dixon Blvd.\nBartow\, FL 33830 \nCost: FREE 
URL:https://dancehallfit.com/event/dancehall-fit-for-seniors-march-24th-carver/
CATEGORIES:Seniors
END:VEVENT
BEGIN:VEVENT
DTSTART;TZID=Asia/Dubai:20260324T103000
DTEND;TZID=Asia/Dubai:20260324T113000
DTSTAMP:20260425T165701
CREATED:20260302T223128Z
LAST-MODIFIED:20260302T223128Z
UID:5179-1774348200-1774351800@dancehallfit.com
SUMMARY:Dancehall Fit for Seniors - March 24th Fair Oaks
DESCRIPTION:Date: March 24th \nTime: 10:30am – 11:30am \nLocation: \nFair Oaks Community Center\n3400 E Louisiana Ave\nTampa\, FL 33610\nCost: FREE 
URL:https://dancehallfit.com/event/dancehall-fit-for-seniors-march-24th-fair-oaks/
CATEGORIES:Seniors
END:VEVENT
BEGIN:VEVENT
DTSTART;TZID=Asia/Dubai:20260323T110000
DTEND;TZID=Asia/Dubai:20260323T120000
DTSTAMP:20260425T165701
CREATED:20260302T224330Z
LAST-MODIFIED:20260302T224330Z
UID:5188-1774263600-1774267200@dancehallfit.com
SUMMARY:Dancehall Fit for Seniors: Stretch - March 23rd The Skills Center
DESCRIPTION:Date: March 23rd \nTime: 11am – 12pm \nLocation: \nThe Skills Center\n5107 N 22 nd St\nTampa\, FL 33610 \nCost: FREE 
URL:https://dancehallfit.com/event/dancehall-fit-for-seniors-stretch-march-23rd-the-skills-center/
CATEGORIES:Seniors
END:VEVENT
BEGIN:VEVENT
DTSTART;TZID=Asia/Dubai:20260318T110000
DTEND;TZID=Asia/Dubai:20260318T120000
DTSTAMP:20260425T165701
CREATED:20260308T194525Z
LAST-MODIFIED:20260308T194525Z
UID:5231-1773831600-1773835200@dancehallfit.com
SUMMARY:Dancehall Fit for Seniors - March 18th Access Center
DESCRIPTION:Date: March 18th \nTime: 11am – 12pm \nLocation: \nAccess Center of South St. Pete\n2273 34th St S\nSt. Pete\, FL 33711 \nCost: FREE 
URL:https://dancehallfit.com/event/dancehall-fit-for-seniors-march-18th-access-center/
CATEGORIES:Seniors
END:VEVENT
BEGIN:VEVENT
DTSTART;TZID=Asia/Dubai:20260317T123000
DTEND;TZID=Asia/Dubai:20260317T133000
DTSTAMP:20260425T165701
CREATED:20260302T130527Z
LAST-MODIFIED:20260302T130527Z
UID:5152-1773750600-1773754200@dancehallfit.com
SUMMARY:Dancehall Fit for Seniors - March 17th Carver
DESCRIPTION:Date: March 17th \nTime: 12:30pm – 1:30pm \nLocation: \nCarver Recreation Center\n520 S Herbert Dixon Blvd.\nBartow\, FL 33830 \nCost: FREE 
URL:https://dancehallfit.com/event/dancehall-fit-for-seniors-march-17th-carver/
CATEGORIES:Seniors
END:VEVENT
BEGIN:VEVENT
DTSTART;TZID=Asia/Dubai:20260317T103000
DTEND;TZID=Asia/Dubai:20260317T113000
DTSTAMP:20260425T165701
CREATED:20260302T223035Z
LAST-MODIFIED:20260302T223041Z
UID:5172-1773743400-1773747000@dancehallfit.com
SUMMARY:Dancehall Fit for Seniors - March 17th Fair Oaks
DESCRIPTION:Date: March 17th \nTime: 10:30am – 11:30am \nLocation: \nFair Oaks Community Center\n3400 E Louisiana Ave\nTampa\, FL 33610\nCost: FREE 
URL:https://dancehallfit.com/event/dancehall-fit-for-seniors-march-17th-fair-oaks/
CATEGORIES:Seniors
END:VEVENT
BEGIN:VEVENT
DTSTART;TZID=Asia/Dubai:20260312T123000
DTEND;TZID=Asia/Dubai:20260312T133000
DTSTAMP:20260425T165701
CREATED:20260302T225318Z
LAST-MODIFIED:20260302T225318Z
UID:5194-1773318600-1773322200@dancehallfit.com
SUMMARY:Dancehall Fit for Seniors - March 12th Carver
DESCRIPTION:Date: March 12th \nTime: 12:30pm – 1:30pm \nLocation: \nCarver Recreation Center\n520 S Herbert Dixon Blvd.\nBartow\, FL 33830 \nCost: FREE 
URL:https://dancehallfit.com/event/dancehall-fit-for-seniors-march-12th-carver/
CATEGORIES:Seniors
END:VEVENT
BEGIN:VEVENT
DTSTART;TZID=Asia/Dubai:20260312T103000
DTEND;TZID=Asia/Dubai:20260312T113000
DTSTAMP:20260425T165701
CREATED:20260302T223628Z
LAST-MODIFIED:20260302T223634Z
UID:5181-1773311400-1773315000@dancehallfit.com
SUMMARY:Dancehall Fit for Seniors - March 12th Fair Oaks
DESCRIPTION:Date: March 12th \nTime: 10:30am – 11:30am \nLocation: \nFair Oaks Community Center\n3400 E Louisiana Ave\nTampa\, FL 33610\nCost: FREE 
URL:https://dancehallfit.com/event/dancehall-fit-for-seniors-march-12th-fair-oaks/
CATEGORIES:Seniors
END:VEVENT
BEGIN:VEVENT
DTSTART;TZID=Asia/Dubai:20260311T110000
DTEND;TZID=Asia/Dubai:20260311T120000
DTSTAMP:20260425T165701
CREATED:20260302T224834Z
LAST-MODIFIED:20260302T224834Z
UID:5190-1773226800-1773230400@dancehallfit.com
SUMMARY:Dancehall Fit for Seniors - March 11th The Skills Center
DESCRIPTION:Date: March 11th \nTime: 11am – 12pm \nLocation: \nThe Skills Center\n5107 N 22nd St\nTampa\, FL 33610 \nCost: FREE 
URL:https://dancehallfit.com/event/dancehall-fit-for-seniors-march-11th-the-skills-center/
CATEGORIES:Seniors
END:VEVENT
BEGIN:VEVENT
DTSTART;TZID=Asia/Dubai:20260310T103000
DTEND;TZID=Asia/Dubai:20260310T113000
DTSTAMP:20260425T165701
CREATED:20260302T221848Z
LAST-MODIFIED:20260302T221848Z
UID:5170-1773138600-1773142200@dancehallfit.com
SUMMARY:Dancehall Fit for Seniors - March 10th Fair Oaks
DESCRIPTION:Date: March 10th \nTime: 10:30am – 11:30am \nLocation: \nFair Oaks Community Center\n3400 E Louisiana Ave\nTampa\, FL 33610\nCost: FREE 
URL:https://dancehallfit.com/event/dancehall-fit-for-seniors-march-10th-fair-oaks/
CATEGORIES:Seniors
END:VEVENT
BEGIN:VEVENT
DTSTART;TZID=Asia/Dubai:20260309T110000
DTEND;TZID=Asia/Dubai:20260309T120000
DTSTAMP:20260425T165701
CREATED:20260302T224157Z
LAST-MODIFIED:20260302T224157Z
UID:5186-1773054000-1773057600@dancehallfit.com
SUMMARY:Dancehall Fit for Seniors: Stretch - March 9th The Skills Center
DESCRIPTION:Date: March 9th \nTime: 11am – 12pm \nLocation: \nThe Skills Center\n5107 N 22 nd St\nTampa\, FL 33610 \nCost: FREE 
URL:https://dancehallfit.com/event/dancehall-fit-for-seniors-stretch-march-9th-the-skills-center/
CATEGORIES:Seniors
END:VEVENT
BEGIN:VEVENT
DTSTART;TZID=Asia/Dubai:20260303T123000
DTEND;TZID=Asia/Dubai:20260303T133000
DTSTAMP:20260425T165701
CREATED:20260302T130339Z
LAST-MODIFIED:20260302T130547Z
UID:5150-1772541000-1772544600@dancehallfit.com
SUMMARY:Dancehall Fit for Seniors - March 3rd Carver
DESCRIPTION:Date: March 3rd \nTime: 12:30pm – 1:30pm \nLocation: \nCarver Recreation Center\n520 S Herbert Dixon Blvd.\nBartow\, FL 33830 \nCost: FREE 
URL:https://dancehallfit.com/event/dancehall-fit-for-seniors-match-3rd-carver/
CATEGORIES:Seniors
END:VEVENT
BEGIN:VEVENT
DTSTART;TZID=Asia/Dubai:20260303T103000
DTEND;TZID=Asia/Dubai:20260303T113000
DTSTAMP:20260425T165701
CREATED:20260302T130159Z
LAST-MODIFIED:20260302T220956Z
UID:5147-1772533800-1772537400@dancehallfit.com
SUMMARY:Dancehall Fit for Seniors - March 3rd Fair Oaks
DESCRIPTION:Date: March 3rd \nTime: 10:30am – 11:30am \nLocation: \nFair Oaks Community Center\n3400 E Louisiana Ave\nTampa\, FL 33610\nCost: FREE 
URL:https://dancehallfit.com/event/dancehall-fit-for-seniors-stretch-march-3rd-the-skills-center-copy/
CATEGORIES:Seniors
END:VEVENT
BEGIN:VEVENT
DTSTART;TZID=Asia/Dubai:20260225T110000
DTEND;TZID=Asia/Dubai:20260225T120000
DTSTAMP:20260425T165701
CREATED:20260209T140548Z
LAST-MODIFIED:20260209T140548Z
UID:5072-1772017200-1772020800@dancehallfit.com
SUMMARY:Dancehall Fit for Seniors - February 25th The Skills Center
DESCRIPTION:Date: February 25th \nTime: 11am – 12pm \nLocation: \nThe Skills Center\n5107 N 22 nd St\nTampa\, FL 33610 \nCost: FREE 
URL:https://dancehallfit.com/event/dancehall-fit-for-seniors-february-25th-the-skills-center/
CATEGORIES:Seniors
END:VEVENT
BEGIN:VEVENT
DTSTART;TZID=Asia/Dubai:20260224T123000
DTEND;TZID=Asia/Dubai:20260224T133000
DTSTAMP:20260425T165701
CREATED:20260205T153730Z
LAST-MODIFIED:20260205T153730Z
UID:5037-1771936200-1771939800@dancehallfit.com
SUMMARY:Dancehall Fit for Seniors - February 24th Carver
DESCRIPTION:Date: February 24th \nTime: 12:30pm – 1:30pm \nLocation: \nCarver Recreation Center\n520 S Herbert Dixon Blvd.\nBartow\, FL 33830 \nCost: FREE 
URL:https://dancehallfit.com/event/dancehall-fit-for-seniors-february-24th-carver/
CATEGORIES:Seniors
END:VEVENT
BEGIN:VEVENT
DTSTART;TZID=Asia/Dubai:20260223T110000
DTEND;TZID=Asia/Dubai:20260223T120000
DTSTAMP:20260425T165701
CREATED:20260206T194229Z
LAST-MODIFIED:20260206T194707Z
UID:5066-1771844400-1771848000@dancehallfit.com
SUMMARY:Dancehall Fit for Seniors: Stretch - February 23rd The Skills Center
DESCRIPTION:Date: February 23rd \nTime: 11am – 12pm \nLocation: \nThe Skills Center\n5107 N 22 nd St\nTampa\, FL 33610 \nCost: FREE 
URL:https://dancehallfit.com/event/dancehall-fit-for-seniors-stretch-february-23rd-the-skills-center/
CATEGORIES:Seniors
END:VEVENT
BEGIN:VEVENT
DTSTART;TZID=Asia/Dubai:20260219T103000
DTEND;TZID=Asia/Dubai:20260219T113000
DTSTAMP:20260425T165701
CREATED:20260205T154112Z
LAST-MODIFIED:20260205T154112Z
UID:5040-1771497000-1771500600@dancehallfit.com
SUMMARY:Dancehall Fit for Seniors - February 19th Cyrus Green
DESCRIPTION:Date: February 19th \nTime: 10:30am – 11:30am \nLocation: \nCyrus Green Community Center\n2101 E Dr Martin Luther King Blvd.\nTampa\, FL  33610 \nCost: FREE to community
URL:https://dancehallfit.com/event/dancehall-fit-for-seniors-february-19th-cyrus-green/
CATEGORIES:Seniors
END:VEVENT
BEGIN:VEVENT
DTSTART;TZID=Asia/Dubai:20260217T123000
DTEND;TZID=Asia/Dubai:20260217T133000
DTSTAMP:20260425T165701
CREATED:20260205T153651Z
LAST-MODIFIED:20260205T153651Z
UID:5035-1771331400-1771335000@dancehallfit.com
SUMMARY:Dancehall Fit for Seniors - February 17th Carver
DESCRIPTION:Date: February 17th \nTime: 12:30pm – 1:30pm \nLocation: \nCarver Recreation Center\n520 S Herbert Dixon Blvd.\nBartow\, FL 33830 \nCost: FREE 
URL:https://dancehallfit.com/event/dancehall-fit-for-seniors-february-17th-carver/
CATEGORIES:Seniors
END:VEVENT
BEGIN:VEVENT
DTSTART;TZID=Asia/Dubai:20260217T103000
DTEND;TZID=Asia/Dubai:20260217T113000
DTSTAMP:20260425T165701
CREATED:20260205T155638Z
LAST-MODIFIED:20260209T185234Z
UID:5049-1771324200-1771327800@dancehallfit.com
SUMMARY:Dancehall Fit For Seniors - February 17th Fair Oaks
DESCRIPTION:Date: February 17th \nTime: 10:30am – 11:30am \nLocation: Fair Oaks Community Center\n3400 E Louisiana Ave\nTampa\, FL\n33610 \nCost: FREE \n \n 
URL:https://dancehallfit.com/event/dancehall-fit-for-seniors-february-17th-fair-oaks/
CATEGORIES:Seniors
END:VEVENT
BEGIN:VEVENT
DTSTART;TZID=Asia/Dubai:20260213T103000
DTEND;TZID=Asia/Dubai:20260213T113000
DTSTAMP:20260425T165701
CREATED:20260205T155534Z
LAST-MODIFIED:20260209T185358Z
UID:5047-1770978600-1770982200@dancehallfit.com
SUMMARY:Dancehall Fit For Seniors - February 13th Fair Oaks
DESCRIPTION:Date: February 13th \nTime: 10:30am – 11:30am \nLocation: Fair Oaks Community Center\n3400 E Louisiana Ave\nTampa\, FL\n33610 \nCost: FREE \n \n 
URL:https://dancehallfit.com/event/dancehall-fit-for-seniors-february-13th-fair-oaks/
CATEGORIES:Seniors
END:VEVENT
BEGIN:VEVENT
DTSTART;TZID=Asia/Dubai:20260211T110000
DTEND;TZID=Asia/Dubai:20260211T120000
DTSTAMP:20260425T165701
CREATED:20260209T140632Z
LAST-MODIFIED:20260209T140632Z
UID:5074-1770807600-1770811200@dancehallfit.com
SUMMARY:Dancehall Fit for Seniors - February 11th The Skills Center
DESCRIPTION:Date: February 11th \nTime: 11am – 12pm \nLocation: \nThe Skills Center\n5107 N 22 nd St\nTampa\, FL 33610 \nCost: FREE 
URL:https://dancehallfit.com/event/dancehall-fit-for-seniors-february-11th-the-skills-center/
CATEGORIES:Seniors
END:VEVENT
BEGIN:VEVENT
DTSTART;TZID=Asia/Dubai:20260210T123000
DTEND;TZID=Asia/Dubai:20260210T133000
DTSTAMP:20260425T165701
CREATED:20260205T153616Z
LAST-MODIFIED:20260205T153616Z
UID:5033-1770726600-1770730200@dancehallfit.com
SUMMARY:Dancehall Fit for Seniors - February 10th Carver
DESCRIPTION:Date: February 10th \nTime: 12:30pm – 1:30pm \nLocation: \nCarver Recreation Center\n520 S Herbert Dixon Blvd.\nBartow\, FL 33830 \nCost: FREE 
URL:https://dancehallfit.com/event/dancehall-fit-for-seniors-february-10th-carver/
CATEGORIES:Seniors
END:VEVENT
END:VCALENDAR