BEGIN:VCALENDAR
VERSION:2.0
PRODID:-//Dancehall Fit - ECPv6.15.17//NONSGML v1.0//EN
CALSCALE:GREGORIAN
METHOD:PUBLISH
X-WR-CALNAME:Dancehall Fit
X-ORIGINAL-URL:https://dancehallfit.com
X-WR-CALDESC:Events for Dancehall Fit
REFRESH-INTERVAL;VALUE=DURATION:PT1H
X-Robots-Tag:noindex
X-PUBLISHED-TTL:PT1H
BEGIN:VTIMEZONE
TZID:Asia/Dubai
BEGIN:STANDARD
TZOFFSETFROM:+0400
TZOFFSETTO:+0400
TZNAME:+04
DTSTART:20250101T000000
END:STANDARD
END:VTIMEZONE
BEGIN:VEVENT
DTSTART;TZID=Asia/Dubai:20260310T120000
DTEND;TZID=Asia/Dubai:20260310T160000
DTSTAMP:20260421T103940
CREATED:20260302T221749Z
LAST-MODIFIED:20260302T221754Z
UID:5165-1773144000-1773158400@dancehallfit.com
SUMMARY:Casa Di Francesco Senior Health Fair
DESCRIPTION:Date: March 10th \nTime: 12pm – 4pm \nLocation: Casa Di Francesco Complex\n4470 Mango Rd\nTampa\, FL 33610 \nCost: FREE for seniors \n \n 
URL:https://dancehallfit.com/event/casa-di-francesco-senior-health-fair/
CATEGORIES:Special Event
END:VEVENT
END:VCALENDAR