BEGIN:VCALENDAR
VERSION:2.0
PRODID:-//Dancehall Fit - ECPv6.15.17//NONSGML v1.0//EN
CALSCALE:GREGORIAN
METHOD:PUBLISH
X-WR-CALNAME:Dancehall Fit
X-ORIGINAL-URL:https://dancehallfit.com
X-WR-CALDESC:Events for Dancehall Fit
REFRESH-INTERVAL;VALUE=DURATION:PT1H
X-Robots-Tag:noindex
X-PUBLISHED-TTL:PT1H
BEGIN:VTIMEZONE
TZID:Asia/Dubai
BEGIN:STANDARD
TZOFFSETFROM:+0400
TZOFFSETTO:+0400
TZNAME:+04
DTSTART:20240101T000000
END:STANDARD
END:VTIMEZONE
BEGIN:VTIMEZONE
TZID:UTC
BEGIN:STANDARD
TZOFFSETFROM:+0000
TZOFFSETTO:+0000
TZNAME:UTC
DTSTART:20240101T000000
END:STANDARD
END:VTIMEZONE
BEGIN:VEVENT
DTSTART;TZID=Asia/Dubai:20250924T170000
DTEND;TZID=Asia/Dubai:20250924T180000
DTSTAMP:20260421T182555
CREATED:20250908T153904Z
LAST-MODIFIED:20250908T153904Z
UID:4123-1758733200-1758736800@dancehallfit.com
SUMMARY:Dancehall Fit for Seniors - September 24th The Well
DESCRIPTION:Date: September 24th \nTime: 5pm-6pm \nLocation: \nThe Well Tampa \n5110 N 40th St \nTampa\, FL 33610 \nCost: FREE for seniors \n \n 
URL:https://dancehallfit.com/event/dancehall-fit-for-seniors-september-24th-the-well/
CATEGORIES:Seniors
END:VEVENT
BEGIN:VEVENT
DTSTART;TZID=Asia/Dubai:20250924T110000
DTEND;TZID=Asia/Dubai:20250924T120000
DTSTAMP:20260421T182555
CREATED:20250908T151411Z
LAST-MODIFIED:20250908T153458Z
UID:4090-1758711600-1758715200@dancehallfit.com
SUMMARY:Dancehall Fit for Seniors - September 24th The Skills Center
DESCRIPTION:Date: September 24th \nTime: 11am – 12pm \nLocation: \nThe Skills Center \n5107 N 22nd St \nTampa\, FL 33610 \nCost: FREE 
URL:https://dancehallfit.com/event/dancehall-fit-for-seniors-september-24th-the-skills-center/
CATEGORIES:Seniors
END:VEVENT
BEGIN:VEVENT
DTSTART;TZID=Asia/Dubai:20250923T123000
DTEND;TZID=Asia/Dubai:20250923T133000
DTSTAMP:20260421T182555
CREATED:20250908T153633Z
LAST-MODIFIED:20250908T153633Z
UID:4121-1758630600-1758634200@dancehallfit.com
SUMMARY:Dancehall Fit for Seniors - September 23rd Carver
DESCRIPTION:Date: September 23rd \nTime: 12:30pm – 1:30pm \nLocation: \nCarver Recreation Center \n520 S Herbert Dixon Blvd. \nBartow\, FL \n33830 \nCost: FREE for Seniors
URL:https://dancehallfit.com/event/dancehall-fit-for-seniors-september-23rd-carver/
CATEGORIES:Seniors
END:VEVENT
BEGIN:VEVENT
DTSTART;TZID=Asia/Dubai:20250920T094500
DTEND;TZID=Asia/Dubai:20250920T104500
DTSTAMP:20260421T182555
CREATED:20250908T153430Z
LAST-MODIFIED:20250908T153430Z
UID:4118-1758361500-1758365100@dancehallfit.com
SUMMARY:Dancehall Fit - September 20th The Skills Center
DESCRIPTION:Date: September 20th \nTime: 9:45am-10:45am \nLocation: \nThe Skills Center \n5107 N 22nd St \nTampa\, FL 33610 \nCost: FREE 
URL:https://dancehallfit.com/event/dancehall-fit-september-20th-the-skills-center/
CATEGORIES:Dancehall Fit Everyone
END:VEVENT
BEGIN:VEVENT
DTSTART;TZID=Asia/Dubai:20250918T170000
DTEND;TZID=Asia/Dubai:20250918T190000
DTSTAMP:20260421T182555
CREATED:20250908T150802Z
LAST-MODIFIED:20250908T150802Z
UID:4086-1758214800-1758222000@dancehallfit.com
SUMMARY:Dancehall Fit - September 18th Resource
DESCRIPTION:Dancehall Fit \nDate: September 18th \nTime: 5pm-7pm \nLocation: \nResource Empowerment Center\n9309 N Florida Ave\, Ste 103\nTampa\, FL 33612 \nCost: Private Event \n 
URL:https://dancehallfit.com/event/dancehall-fit-september-18th-resource/
CATEGORIES:Private Event
END:VEVENT
BEGIN:VEVENT
DTSTART;TZID=Asia/Dubai:20250918T103000
DTEND;TZID=Asia/Dubai:20250918T113000
DTSTAMP:20260421T182555
CREATED:20250908T153302Z
LAST-MODIFIED:20250908T153302Z
UID:4116-1758191400-1758195000@dancehallfit.com
SUMMARY:Dancehall Fit for Seniors - September 18th Cyrus Green
DESCRIPTION:Date: September 18th \nTime: 10:30am – 11:30am \nLocation: \nCyrus Green Community Center\n2101 E Dr Martin Luther King Blvd.\nTampa\, FL  33610 \nCost: FREE to community
URL:https://dancehallfit.com/event/dancehall-fit-for-seniors-september-18th-cyrus-green/
CATEGORIES:Seniors
END:VEVENT
BEGIN:VEVENT
DTSTART;TZID=Asia/Dubai:20250917T110000
DTEND;TZID=Asia/Dubai:20250917T120000
DTSTAMP:20260421T182555
CREATED:20250908T153139Z
LAST-MODIFIED:20250908T153139Z
UID:4114-1758106800-1758110400@dancehallfit.com
SUMMARY:Dancehall Fit for Seniors - September 17th Pearlena's
DESCRIPTION:Date: September 17th \nTime: 11am-12pm \nLocation: \nPearlena’s Adult Activity Center \n9309 N Florida Ave\, Suite 101 \nTampa\, FL 33612 \nCost: FREE to seniors
URL:https://dancehallfit.com/event/dancehall-fit-for-seniors-september-17th-pearlenas/
CATEGORIES:Seniors
END:VEVENT
BEGIN:VEVENT
DTSTART;TZID=Asia/Dubai:20250916T123000
DTEND;TZID=Asia/Dubai:20250916T133000
DTSTAMP:20260421T182555
CREATED:20250908T150159Z
LAST-MODIFIED:20250908T150159Z
UID:4075-1758025800-1758029400@dancehallfit.com
SUMMARY:Dancehall Fit for Seniors - September 16th Carver
DESCRIPTION:Date: September 16th \nTime: 12:30pm – 1:30pm \nLocation: \nCarver Recreation Center \n520 S Herbert Dixon Blvd. \nBartow\, FL \n33830 \nCost: FREE for Seniors
URL:https://dancehallfit.com/event/dancehall-fit-for-seniors-september-16th-carver/
CATEGORIES:Seniors
END:VEVENT
BEGIN:VEVENT
DTSTART;TZID=Asia/Dubai:20250915T173000
DTEND;TZID=Asia/Dubai:20250915T183000
DTSTAMP:20260421T182555
CREATED:20250908T152931Z
LAST-MODIFIED:20250908T152931Z
UID:4105-1757957400-1757961000@dancehallfit.com
SUMMARY:Dancehall Fit for Seniors - September 15th Allen Temple
DESCRIPTION:Date: September 15th \nTime: 5:30pm – 6:30pm \nLocation: \nAllen Temple AME Church \n2101 N Lowe St \nTampa\, FL \n33605 \nCost: FREE for Seniors \n \n 
URL:https://dancehallfit.com/event/dancehall-fit-for-seniors-september-15th-allen-temple/
CATEGORIES:Seniors
END:VEVENT
BEGIN:VEVENT
DTSTART;TZID=Asia/Dubai:20250915T120000
DTEND;TZID=Asia/Dubai:20250915T130000
DTSTAMP:20260421T182555
CREATED:20250908T152157Z
LAST-MODIFIED:20250908T152157Z
UID:4102-1757937600-1757941200@dancehallfit.com
SUMMARY:Dancehall Fit for Seniors - September 15th Plantation
DESCRIPTION:Date: September 15th \nTime: 12pm – 1pm \nLocation: \nPlantation Community \n11480 Plantation Blvd \nTampa. FL 33624 \nCost: FREE for Seniors
URL:https://dancehallfit.com/event/dancehall-fit-for-seniors-september-15th-plantation-2/
CATEGORIES:Seniors
END:VEVENT
BEGIN:VEVENT
DTSTART;TZID=Asia/Dubai:20250913T070000
DTEND;TZID=Asia/Dubai:20250913T090000
DTSTAMP:20260421T182555
CREATED:20250908T152039Z
LAST-MODIFIED:20250908T154114Z
UID:4098-1757746800-1757754000@dancehallfit.com
SUMMARY:UNCF Run/Walk
DESCRIPTION:Date: September 13th \nTime: 7am – 9am \nLocation: Blue Jack Park\n2501 General Rees Ave\nOrlando\, FL\n32814 \nCost: Registration Required \n \n 
URL:https://dancehallfit.com/event/uncf-run-walk/
CATEGORIES:Special Event
END:VEVENT
BEGIN:VEVENT
DTSTART;TZID=Asia/Dubai:20250912T100000
DTEND;TZID=Asia/Dubai:20250912T110000
DTSTAMP:20260421T182555
CREATED:20250908T151733Z
LAST-MODIFIED:20250908T151733Z
UID:4094-1757671200-1757674800@dancehallfit.com
SUMMARY:Dancehall Fit for Seniors - September 12th Sunshine
DESCRIPTION:Date: September 12th \nTime: 10am – 11am \nLocation: \nSunshine Health \n200 Waters Ave\, Suite 101 \nTampa\, FL 33604 \nCost: FREE for Seniors
URL:https://dancehallfit.com/event/dancehall-fit-for-seniors-september-12th-sunshine/
CATEGORIES:Seniors
END:VEVENT
BEGIN:VEVENT
DTSTART;TZID=Asia/Dubai:20250911T183000
DTEND;TZID=Asia/Dubai:20250911T193000
DTSTAMP:20260421T182555
CREATED:20250908T151553Z
LAST-MODIFIED:20250908T154526Z
UID:4092-1757615400-1757619000@dancehallfit.com
SUMMARY:Dancehall Fit - September 11th The Skills Center
DESCRIPTION:Date: September 11th \nTime: 6:30pm – 7:30pm \nLocation: \nThe Skills Center \n5107 N 22nd St \nTampa\, FL 33610 \nCost: FREE to community
URL:https://dancehallfit.com/event/dancehall-fit-september-11th-the-skills-center/
CATEGORIES:Seniors
END:VEVENT
BEGIN:VEVENT
DTSTART;TZID=Asia/Dubai:20250910T110000
DTEND;TZID=Asia/Dubai:20250910T120000
DTSTAMP:20260421T182555
CREATED:20250908T151247Z
LAST-MODIFIED:20250908T151247Z
UID:4088-1757502000-1757505600@dancehallfit.com
SUMMARY:Dancehall Fit for Seniors - September 10th The Skills Center
DESCRIPTION:Date: Septemer 10th \nTime: 11am – 12pm \nLocation: \nThe Skills Center \n5107 N 22nd St \nTampa\, FL 33610 \nCost: FREE 
URL:https://dancehallfit.com/event/dancehall-fit-for-seniors-september-10th-the-skills-center/
CATEGORIES:Seniors
END:VEVENT
BEGIN:VEVENT
DTSTART;TZID=Asia/Dubai:20250908T110000
DTEND;TZID=Asia/Dubai:20250908T120000
DTSTAMP:20260421T182555
CREATED:20250907T150536Z
LAST-MODIFIED:20250907T150536Z
UID:4057-1757329200-1757332800@dancehallfit.com
SUMMARY:Dancehall Fit for Seniors: Stretch - September 8th The Skills Center
DESCRIPTION:Date: September 8th \nTime: 11am – 12pm \nLocation: \nThe Skills Center \n5107 N 22nd St \nTampa\, FL 33610 \nCost: FREE to community
URL:https://dancehallfit.com/event/dancehall-fit-for-seniors-stretch-september-8th-the-skills-center/
CATEGORIES:Seniors
END:VEVENT
BEGIN:VEVENT
DTSTART;TZID=Asia/Dubai:20250904T170000
DTEND;TZID=Asia/Dubai:20250904T190000
DTSTAMP:20260421T182555
CREATED:20250908T150719Z
LAST-MODIFIED:20250908T150719Z
UID:4084-1757005200-1757012400@dancehallfit.com
SUMMARY:Dancehall Fit - September 4th Resource
DESCRIPTION:Dancehall Fit \nDate: September 4th \nTime: 5pm-7pm \nLocation: \nResource Empowerment Center\n9309 N Florida Ave\, Ste 103\nTampa\, FL 33612 \nCost: Private Event \n 
URL:https://dancehallfit.com/event/dancehall-fit-september-4th-resource/
CATEGORIES:Private Event
END:VEVENT
BEGIN:VEVENT
DTSTART;TZID=Asia/Dubai:20250904T100000
DTEND;TZID=Asia/Dubai:20250904T110000
DTSTAMP:20260421T182555
CREATED:20250908T150512Z
LAST-MODIFIED:20250908T151319Z
UID:4082-1756980000-1756983600@dancehallfit.com
SUMMARY:Dancehall Fit for Seniors - September 4th Barksdale
DESCRIPTION:Date: September 4th \nTime: 10am – 11am \nLocation: \nBarksdale Senior Center\n1801 N Lincoln Ave\nTampa\, FL 33607 \nCost: FREE for Seniors
URL:https://dancehallfit.com/event/dancehall-fit-for-seniors-september-4th-barksdale/
CATEGORIES:Seniors
END:VEVENT
BEGIN:VEVENT
DTSTART;TZID=Asia/Dubai:20250903T110000
DTEND;TZID=Asia/Dubai:20250903T120000
DTSTAMP:20260421T182555
CREATED:20250908T150352Z
LAST-MODIFIED:20250908T150352Z
UID:4077-1756897200-1756900800@dancehallfit.com
SUMMARY:Dancehall Fit for Seniors - September 3rd Pearlena's
DESCRIPTION:Date: September 3rd \nTime: 11am-12pm \nLocation: \nPearlena’s Adult Activity Center \n9309 N Florida Ave\, Suite 101 \nTampa\, FL 33612 \nCost: FREE to seniors
URL:https://dancehallfit.com/event/dancehall-fit-for-seniors-september-3rd-pearlenas/
CATEGORIES:Seniors
END:VEVENT
BEGIN:VEVENT
DTSTART;TZID=Asia/Dubai:20250902T123000
DTEND;TZID=Asia/Dubai:20250902T133000
DTSTAMP:20260421T182555
CREATED:20250908T144757Z
LAST-MODIFIED:20250908T144757Z
UID:4062-1756816200-1756819800@dancehallfit.com
SUMMARY:Dancehall Fit for Seniors - September 2nd Carver
DESCRIPTION:Date: September 2nd \nTime: 12:30pm – 1:30pm \nLocation: \nCarver Recreation Center \n520 S Herbert Dixon Blvd. \nBartow\, FL \n33830 \nCost: FREE for Seniors
URL:https://dancehallfit.com/event/dancehall-fit-for-seniors-september-2nd-carver/
CATEGORIES:Seniors
END:VEVENT
BEGIN:VEVENT
DTSTART;TZID=Asia/Dubai:20250830T110000
DTEND;TZID=Asia/Dubai:20250830T120000
DTSTAMP:20260421T182555
CREATED:20250808T195616Z
LAST-MODIFIED:20250808T195616Z
UID:4012-1756551600-1756555200@dancehallfit.com
SUMMARY:Dancehall Fit - August 30th Florida Blue
DESCRIPTION:Date: August 16th & 30th \nTime: 11am-12pm \nLocation: \nFlorida Blue\n201 N West Shore Blvd\nTampa\, FL 33709 \nCost: FREE to community
URL:https://dancehallfit.com/event/dancehall-fit-august-30th-florida-blue/
CATEGORIES:Dancehall Fit Everyone
END:VEVENT
BEGIN:VEVENT
DTSTART;TZID=Asia/Dubai:20250829T110000
DTEND;TZID=Asia/Dubai:20250829T120000
DTSTAMP:20260421T182555
CREATED:20250808T200753Z
LAST-MODIFIED:20250808T200753Z
UID:4026-1756465200-1756468800@dancehallfit.com
SUMMARY:Dancehall Fit for Seniors - August 29th The Skills Center
DESCRIPTION:Date: August 29th \nTime: 11am – 12pm \nLocation: \nThe Skills Center \n5107 N 22nd St \nTampa\, FL 33610 \nCost: FREE to community
URL:https://dancehallfit.com/event/dancehall-fit-for-seniors-august-29th-the-skills-center/
CATEGORIES:Seniors
END:VEVENT
BEGIN:VEVENT
DTSTART;TZID=Asia/Dubai:20250828T170000
DTEND;TZID=Asia/Dubai:20250828T190000
DTSTAMP:20260421T182555
CREATED:20250808T195212Z
LAST-MODIFIED:20250808T195212Z
UID:4006-1756400400-1756407600@dancehallfit.com
SUMMARY:Dancehall Fit - August 28th Resource
DESCRIPTION:Date: August 28th \nTime: 5pm – 7pm \nLocation: \nResource Empowerment Center\n9309 N Florida Ave\, Ste 103\nTampa\, FL 33612 \nCost: Private class
URL:https://dancehallfit.com/event/dancehall-fit-august-28th-resource/
CATEGORIES:Private Event
END:VEVENT
BEGIN:VEVENT
DTSTART;TZID=Asia/Dubai:20250827T110000
DTEND;TZID=Asia/Dubai:20250827T120000
DTSTAMP:20260421T182555
CREATED:20250808T195001Z
LAST-MODIFIED:20250808T195001Z
UID:4000-1756292400-1756296000@dancehallfit.com
SUMMARY:Dancehall Fit for Seniors - August 27th The Skills Center
DESCRIPTION:Date: August 27th \nTime: 11am – 12pm \nLocation: \nThe Skills Center \n5107 N 22nd St \nTampa\, FL 33610 \nCost: FREE 
URL:https://dancehallfit.com/event/dancehall-fit-for-seniors-august-27th-the-skills-center/
CATEGORIES:Seniors
END:VEVENT
BEGIN:VEVENT
DTSTART;TZID=Asia/Dubai:20250826T120000
DTEND;TZID=Asia/Dubai:20250826T130000
DTSTAMP:20260421T182555
CREATED:20250808T194641Z
LAST-MODIFIED:20250808T194641Z
UID:3996-1756209600-1756213200@dancehallfit.com
SUMMARY:Dancehall Fit for Seniors - August 26th Carver
DESCRIPTION:Date: August 12th \, 19th \, 26th \nTime: 12pm – 1pm \nLocation: \nCarver Recreation Center \n520 S Herbert Dixon Blvd. \nBartow\, FL \n33830 \nCost: FREE for Seniors
URL:https://dancehallfit.com/event/dancehall-fit-for-seniors-august-26th-carver/
CATEGORIES:Seniors
END:VEVENT
BEGIN:VEVENT
DTSTART;TZID=Asia/Dubai:20250825T173000
DTEND;TZID=Asia/Dubai:20250825T183000
DTSTAMP:20260421T182555
CREATED:20250808T194438Z
LAST-MODIFIED:20250808T194438Z
UID:3989-1756143000-1756146600@dancehallfit.com
SUMMARY:Dancehall Fit for Seniors - August 25th Allen Temple
DESCRIPTION:Date: August 11th & 25th \nTime: 5:30pm – 6:30pm \nLocation: \nAllen Temple AME Church \n2101 N Lowe St \nTampa\, FL \n33605 \nCost: FREE for Seniors \n \n 
URL:https://dancehallfit.com/event/dancehall-fit-for-seniors-august-25th-allen-temple/
CATEGORIES:Seniors
END:VEVENT
BEGIN:VEVENT
DTSTART;TZID=Asia/Dubai:20250825T110000
DTEND;TZID=Asia/Dubai:20250825T120000
DTSTAMP:20260421T182555
CREATED:20250808T200647Z
LAST-MODIFIED:20250808T200647Z
UID:4024-1756119600-1756123200@dancehallfit.com
SUMMARY:Dancehall Fit for Seniors: Stretch - August 25th The Skills Center
DESCRIPTION:Date: August 25th \nTime: 11am – 12pm \nLocation: \nThe Skills Center \n5107 N 22nd St \nTampa\, FL 33610 \nCost: FREE to community
URL:https://dancehallfit.com/event/dancehall-fit-for-seniors-stretch-august-25th-the-skills-center/
CATEGORIES:Seniors
END:VEVENT
BEGIN:VEVENT
DTSTART;TZID=Asia/Dubai:20250823T094500
DTEND;TZID=Asia/Dubai:20250823T104500
DTSTAMP:20260421T182555
CREATED:20250808T200519Z
LAST-MODIFIED:20250808T200519Z
UID:4022-1755942300-1755945900@dancehallfit.com
SUMMARY:Dancehall Fit - August 23rd The Skills Center
DESCRIPTION:Date: August 23rd \nTime: 9:45am – 10:45am \nLocation: \nThe Skills Center \n5107 N 22nd St \nTampa\, FL 33610 \nCost: FREE to community
URL:https://dancehallfit.com/event/dancehall-fit-august-23rd-the-skills-center/
CATEGORIES:Dancehall Fit Everyone
END:VEVENT
BEGIN:VEVENT
DTSTART;TZID=Asia/Dubai:20250821T183000
DTEND;TZID=Asia/Dubai:20250821T193000
DTSTAMP:20260421T182555
CREATED:20250808T200400Z
LAST-MODIFIED:20250808T200400Z
UID:4020-1755801000-1755804600@dancehallfit.com
SUMMARY:Dancehall Fit - August 21st The Skills Center
DESCRIPTION:Date: August 21st \nTime: 6:30am – 7:30am \nLocation: \nThe Skills Center \n5107 N 22nd St \nTampa\, FL 33610 \nCost: FREE to community
URL:https://dancehallfit.com/event/dancehall-fit-august-21st-the-skills-center/
CATEGORIES:Dancehall Fit Everyone
END:VEVENT
BEGIN:VEVENT
DTSTART;TZID=Asia/Dubai:20250821T103000
DTEND;TZID=Asia/Dubai:20250821T113000
DTSTAMP:20260421T182555
CREATED:20250808T200234Z
LAST-MODIFIED:20250808T200234Z
UID:4018-1755772200-1755775800@dancehallfit.com
SUMMARY:Dancehall Fit - August 21st Cyrus Green
DESCRIPTION:Date: August 21st \nTime: 10:30am – 11:30am \nLocation: \nCyrus Green Community Center\n2101 E Dr Martin Luther King Blvd.\nTampa\, FL  33610 \nCost: FREE to community
URL:https://dancehallfit.com/event/dancehall-fit-august-21st-cyrus-green/
CATEGORIES:Dancehall Fit Everyone
END:VEVENT
BEGIN:VEVENT
DTSTART;TZID=UTC:20250820T110000
DTEND;TZID=UTC:20250820T123000
DTSTAMP:20260421T182555
CREATED:20250808T200057Z
LAST-MODIFIED:20250808T200057Z
UID:4016-1755687600-1755693000@dancehallfit.com
SUMMARY:Senior Fun Day
DESCRIPTION:Date: August 20th \nTime: 11am – 12:30pm \nLocation: \nThe Skills Center \n5107 N. 22 Street\nTampa\, Florida 33610 \nCost: FREE 
URL:https://dancehallfit.com/event/senior-fun-day-2/
CATEGORIES:Special Event
END:VEVENT
END:VCALENDAR