BEGIN:VCALENDAR
VERSION:2.0
PRODID:-//Dancehall Fit - ECPv6.15.17//NONSGML v1.0//EN
CALSCALE:GREGORIAN
METHOD:PUBLISH
X-WR-CALNAME:Dancehall Fit
X-ORIGINAL-URL:https://dancehallfit.com
X-WR-CALDESC:Events for Dancehall Fit
REFRESH-INTERVAL;VALUE=DURATION:PT1H
X-Robots-Tag:noindex
X-PUBLISHED-TTL:PT1H
BEGIN:VTIMEZONE
TZID:Asia/Dubai
BEGIN:STANDARD
TZOFFSETFROM:+0400
TZOFFSETTO:+0400
TZNAME:+04
DTSTART:20240101T000000
END:STANDARD
END:VTIMEZONE
BEGIN:VEVENT
DTSTART;TZID=Asia/Dubai:20250709T110000
DTEND;TZID=Asia/Dubai:20250709T120000
DTSTAMP:20260426T031436
CREATED:20250707T192020Z
LAST-MODIFIED:20250707T192114Z
UID:3764-1752058800-1752062400@dancehallfit.com
SUMMARY:Dancehall Fit for Seniors - July 9th The Skills Center
DESCRIPTION:Date: July 9th \nTime: 11am-12pm \nLocation: \nThe Skills Center \n5107 N 22nd St \nTampa\, FL \n33610 \nCost: FREE to seniors
URL:https://dancehallfit.com/event/dancehall-fit-for-seniors-july-25th-the-skills-center/
CATEGORIES:Seniors
END:VEVENT
BEGIN:VEVENT
DTSTART;TZID=Asia/Dubai:20250708T120000
DTEND;TZID=Asia/Dubai:20250708T130000
DTSTAMP:20260426T031436
CREATED:20250808T191621Z
LAST-MODIFIED:20250808T191621Z
UID:3960-1751976000-1751979600@dancehallfit.com
SUMMARY:Dancehall Fit for Seniors - July 8th Carver
DESCRIPTION:Date: July 8th\, 15th\, 22nd\, 29th \nTime: 12pm – 1pm \nLocation: \nCarver Recreation Center \n520 S Herbert Dixon Blvd. \nBartow\, FL \n33830 \nCost: FREE for Seniors
URL:https://dancehallfit.com/event/dancehall-fit-for-seniors-july-8th-carver/
CATEGORIES:Seniors
END:VEVENT
BEGIN:VEVENT
DTSTART;TZID=Asia/Dubai:20250707T130000
DTEND;TZID=Asia/Dubai:20250707T140000
DTSTAMP:20260426T031436
CREATED:20250719T144401Z
LAST-MODIFIED:20250719T144401Z
UID:3910-1751893200-1751896800@dancehallfit.com
SUMMARY:Dancehall Fit - July 7th The Skills Center
DESCRIPTION:Date: July 7th \nTime: 1pm – 2pm \nLocation: \nThe Skills Center \n5107 N 22nd St \nTampa\, FL \n33610 \nCost: Private class
URL:https://dancehallfit.com/event/dancehall-fit-july-7th-the-skills-center/
CATEGORIES:Private Event
END:VEVENT
BEGIN:VEVENT
DTSTART;TZID=Asia/Dubai:20250705T110000
DTEND;TZID=Asia/Dubai:20250705T120000
DTSTAMP:20260426T031436
CREATED:20250719T144310Z
LAST-MODIFIED:20250719T144310Z
UID:3908-1751713200-1751716800@dancehallfit.com
SUMMARY:Dancehall Fit - July 5th Florida Blue
DESCRIPTION:Dancehall Fit Date: July 5th \nTime: 11am-12pm \nLocation: \nFlorida Blue\n2567 Countryside Blvd\nClearwater\, FL\n33761 \nCost: FREE to community
URL:https://dancehallfit.com/event/dancehall-fit-july-5th-florida-blue/
CATEGORIES:Dancehall Fit Everyone
END:VEVENT
BEGIN:VEVENT
DTSTART;TZID=Asia/Dubai:20250703T135000
DTEND;TZID=Asia/Dubai:20250703T145000
DTSTAMP:20260426T031436
CREATED:20250719T143857Z
LAST-MODIFIED:20250719T143857Z
UID:3899-1751550600-1751554200@dancehallfit.com
SUMMARY:Dancehall Fit - July 3rd Palm River
DESCRIPTION:Date: July 3rd \nTime: 1:50pm – 2:50pm \nLocation: \nPalm River Events Hall \n7730 Palm River Rd \nTampa\, FL 33619 \nCost: Private class
URL:https://dancehallfit.com/event/dancehall-fit-july-3rd-palm-river/
CATEGORIES:Private Event
END:VEVENT
BEGIN:VEVENT
DTSTART;TZID=Asia/Dubai:20250702T135000
DTEND;TZID=Asia/Dubai:20250702T145000
DTSTAMP:20260426T031436
CREATED:20250719T143753Z
LAST-MODIFIED:20250719T143753Z
UID:3897-1751464200-1751467800@dancehallfit.com
SUMMARY:Dancehall Fit - July 2nd Palm River
DESCRIPTION:Date: July 2nd \nTime: 1:50pm – 2:50pm \nLocation: \nPalm River Events Hall \n7730 Palm River Rd \nTampa\, FL 33619 \nCost: Private class
URL:https://dancehallfit.com/event/dancehall-fit-july-2nd-palm-river/
CATEGORIES:Private Event
END:VEVENT
BEGIN:VEVENT
DTSTART;TZID=Asia/Dubai:20250702T110000
DTEND;TZID=Asia/Dubai:20250702T120000
DTSTAMP:20260426T031436
CREATED:20250808T191220Z
LAST-MODIFIED:20250808T191220Z
UID:3956-1751454000-1751457600@dancehallfit.com
SUMMARY:Dancehall Fit for Seniors - July 2nd Pearlena's
DESCRIPTION:Date: July 2nd \nTime: 11am-12pm \nLocation: \nPearlena’s Adult Activity Center \n9309 N Florida Ave\, Suite 101 \nTampa\, FL \n33612 \nCost: FREE to seniors
URL:https://dancehallfit.com/event/dancehall-fit-for-seniors-july-2nd-pearlenas/
CATEGORIES:Seniors
END:VEVENT
BEGIN:VEVENT
DTSTART;TZID=Asia/Dubai:20250701T120000
DTEND;TZID=Asia/Dubai:20250701T130000
DTSTAMP:20260426T031436
CREATED:20250808T191114Z
LAST-MODIFIED:20250808T191256Z
UID:3953-1751371200-1751374800@dancehallfit.com
SUMMARY:Dancehall Fit for Seniors - July 1st Carver
DESCRIPTION:Date: July 1st \nTime: 12pm – 1pm \nLocation: \nCarver Recreation Center \n520 S Herbert Dixon Blvd. \nBartow\, FL \n33830 \nCost: FREE for Seniors
URL:https://dancehallfit.com/event/dancehall-fit-for-seniors-july-1st-carver/
CATEGORIES:Seniors
END:VEVENT
BEGIN:VEVENT
DTSTART;TZID=Asia/Dubai:20250630T173000
DTEND;TZID=Asia/Dubai:20250630T183000
DTSTAMP:20260426T031436
CREATED:20250615T153554Z
LAST-MODIFIED:20250615T153554Z
UID:3638-1751304600-1751308200@dancehallfit.com
SUMMARY:Dancehall Fit for Seniors - June 30th Allen Temple
DESCRIPTION:Date: June 30th \nTime: 5:30pm – 6:30pm \nLocation: \nAllen Temple AME Church \n2101 N Lowe St \nTampa\, FL \n33605 \nCost: FREE for Seniors \n \n 
URL:https://dancehallfit.com/event/dancehall-fit-for-seniors-june-30th-allen-temple/
CATEGORIES:Seniors
END:VEVENT
BEGIN:VEVENT
DTSTART;TZID=Asia/Dubai:20250630T130000
DTEND;TZID=Asia/Dubai:20250630T140000
DTSTAMP:20260426T031436
CREATED:20250622T153141Z
LAST-MODIFIED:20250622T153141Z
UID:3702-1751288400-1751292000@dancehallfit.com
SUMMARY:Dancehall Fit - June 30th The Skills Center
DESCRIPTION:Date: June 30th \nTime: 1pm – 2pm \nLocation: \nThe Skills Center \n5107 N 22nd St \nTampa\, FL \n33610 \nCost: Private class
URL:https://dancehallfit.com/event/dancehall-fit-june-30th-the-skills-center/
CATEGORIES:Private Event
END:VEVENT
BEGIN:VEVENT
DTSTART;TZID=Asia/Dubai:20250627T123000
DTEND;TZID=Asia/Dubai:20250627T133000
DTSTAMP:20260426T031436
CREATED:20250622T152858Z
LAST-MODIFIED:20250622T152858Z
UID:3696-1751027400-1751031000@dancehallfit.com
SUMMARY:Dancehall Fit - June 27th The Skills Center
DESCRIPTION:Date: June 27th \nTime: 12:30pm – 1:30pm \nLocation: \nThe Skills Center \n5107 N 22nd St \nTampa\, FL \n33610 \nCost: Private class
URL:https://dancehallfit.com/event/dancehall-fit-june-27th-the-skills-center/
CATEGORIES:Private Event
END:VEVENT
BEGIN:VEVENT
DTSTART;TZID=Asia/Dubai:20250627T110000
DTEND;TZID=Asia/Dubai:20250627T120000
DTSTAMP:20260426T031436
CREATED:20250622T153036Z
LAST-MODIFIED:20250622T153036Z
UID:3698-1751022000-1751025600@dancehallfit.com
SUMMARY:Dancehall Fit for Seniors - June 27th The Skills Center
DESCRIPTION:Date: June 27th \nTime: 11am-12pm \nLocation: \nThe Skills Center \n5107 N 22nd St \nTampa\, FL \n33610 \nCost: FREE to seniors
URL:https://dancehallfit.com/event/dancehall-fit-for-seniors-june-27th-the-skills-center/
CATEGORIES:Seniors
END:VEVENT
BEGIN:VEVENT
DTSTART;TZID=Asia/Dubai:20250626T183000
DTEND;TZID=Asia/Dubai:20250626T193000
DTSTAMP:20260426T031436
CREATED:20250622T144309Z
LAST-MODIFIED:20250622T145223Z
UID:3666-1750962600-1750966200@dancehallfit.com
SUMMARY:Dancehall Fit - June 26th The Skills Center
DESCRIPTION:Date: June 26th \nTime: 6:30pm – 7:30pm \nLocation: \nThe Skills Center \n5107 N 22nd St \nTampa\, FL \n33610 \nCost: FREE to community
URL:https://dancehallfit.com/event/dancehall-fit-for-seniors-june-26th-the-skills-center/
CATEGORIES:Dancehall Fit Everyone
END:VEVENT
BEGIN:VEVENT
DTSTART;TZID=Asia/Dubai:20250626T135000
DTEND;TZID=Asia/Dubai:20250626T145000
DTSTAMP:20260426T031436
CREATED:20250622T152644Z
LAST-MODIFIED:20250622T152655Z
UID:3692-1750945800-1750949400@dancehallfit.com
SUMMARY:Dancehall Fit - June 26th Palm River
DESCRIPTION:Date: June 26th \nTime: 1:50pm – 2:50pm \nLocation: \nPalm River Events Hall \n7730 Palm River Rd \nTampa\, FL 33619 \nCost: Private class
URL:https://dancehallfit.com/event/dancehall-fit-june-26th-palm-river-copy/
CATEGORIES:Private Event
END:VEVENT
BEGIN:VEVENT
DTSTART;TZID=Asia/Dubai:20250626T100000
DTEND;TZID=Asia/Dubai:20250626T110000
DTSTAMP:20260426T031436
CREATED:20250622T152505Z
LAST-MODIFIED:20250622T152505Z
UID:3688-1750932000-1750935600@dancehallfit.com
SUMMARY:Dancehall Fit for Seniors - June 26th Generation Club
DESCRIPTION:Date: June 26th  \nTime: 10am – 11am \nLocation: \nGeneration Club \n6800 N Dale Mabry Hwy\, Suite 222 \nTampa\, FL 33614 \nCost: FREE for Seniors \n \n 
URL:https://dancehallfit.com/event/dancehall-fit-for-seniors-june-26th-generation-club/
CATEGORIES:Seniors
END:VEVENT
BEGIN:VEVENT
DTSTART;TZID=Asia/Dubai:20250625T135000
DTEND;TZID=Asia/Dubai:20250625T145000
DTSTAMP:20260426T031436
CREATED:20250622T145802Z
LAST-MODIFIED:20250622T152710Z
UID:3685-1750859400-1750863000@dancehallfit.com
SUMMARY:Dancehall Fit - June 25th Palm River
DESCRIPTION:Date: June 25th \nTime: 1:50pm – 2:50pm \nLocation: \nPalm River Events Hall \n7730 Palm River Rd \nTampa\, FL 33619 \nCost: Private class
URL:https://dancehallfit.com/event/dancehall-fit-june-25th-the-skills-center/
CATEGORIES:Private Event
END:VEVENT
BEGIN:VEVENT
DTSTART;TZID=Asia/Dubai:20250625T110000
DTEND;TZID=Asia/Dubai:20250625T120000
DTSTAMP:20260426T031436
CREATED:20250615T153414Z
LAST-MODIFIED:20250615T153414Z
UID:3631-1750849200-1750852800@dancehallfit.com
SUMMARY:Dancehall Fit for Seniors - June 25th The Skills Center
DESCRIPTION:Date: June 25th \nTime: 11am-12pm \nLocation: \nThe Skills Center \n5107 N 22nd St \nTampa\, FL \n33610 \nCost: FREE to seniors
URL:https://dancehallfit.com/event/dancehall-fit-for-seniors-june-25th-the-skills-center/
CATEGORIES:Seniors
END:VEVENT
BEGIN:VEVENT
DTSTART;TZID=Asia/Dubai:20250625T100000
DTEND;TZID=Asia/Dubai:20250625T110000
DTSTAMP:20260426T031436
CREATED:20250615T152954Z
LAST-MODIFIED:20250615T153108Z
UID:3627-1750845600-1750849200@dancehallfit.com
SUMMARY:Dancehall Fit for Seniors - June 25th Sunshine
DESCRIPTION:Date: June 25th \nTime: 10am – 11am \nLocation: \nSunshine Health \n200 Waters Ave\, Suite 101 \nTampa\, FL 33604 \nCost: FREE for Seniors
URL:https://dancehallfit.com/event/dancehall-fit-for-seniors-june-25th-sunshine/
CATEGORIES:Seniors
END:VEVENT
BEGIN:VEVENT
DTSTART;TZID=Asia/Dubai:20250624T120000
DTEND;TZID=Asia/Dubai:20250624T130000
DTSTAMP:20260426T031436
CREATED:20250622T142917Z
LAST-MODIFIED:20250622T153219Z
UID:3654-1750766400-1750770000@dancehallfit.com
SUMMARY:Dancehall Fit for Seniors - June 24th Carver
DESCRIPTION:Date: June 24th \nTime: 12pm – 1pm \nLocation: \nCarver Recreation Center \n520 S Herbert Dixon Blvd. \nBartow\, FL \n33830 \nCost: FREE for Seniors
URL:https://dancehallfit.com/event/dancehall-fit-for-seniors-june-24th-carver/
CATEGORIES:Seniors
END:VEVENT
BEGIN:VEVENT
DTSTART;TZID=Asia/Dubai:20250623T130000
DTEND;TZID=Asia/Dubai:20250623T140000
DTSTAMP:20260426T031436
CREATED:20250622T145502Z
LAST-MODIFIED:20250622T145502Z
UID:3683-1750683600-1750687200@dancehallfit.com
SUMMARY:Dancehall Fit - June 23rd The Skills Center
DESCRIPTION:Date: June 23rd \nTime: 1pm-2pm \nLocation: \nThe Skills Center \n5107 N 22nd St \nTampa\, FL \n33610 \nCost: Private class
URL:https://dancehallfit.com/event/dancehall-fit-june-23rd-the-skills-center/
CATEGORIES:Private Event
END:VEVENT
BEGIN:VEVENT
DTSTART;TZID=Asia/Dubai:20250623T100000
DTEND;TZID=Asia/Dubai:20250623T110000
DTSTAMP:20260426T031436
CREATED:20250622T145209Z
LAST-MODIFIED:20250622T145209Z
UID:3676-1750672800-1750676400@dancehallfit.com
SUMMARY:Dancehall Fit - June 23rd Riverview
DESCRIPTION:Date: June 23rd \nTime: 10am- 11am \nLocation: \nRiverview Boys & Girls Club \n6809 Krycul Ave \nTampa\, FL 33578 \nCost: Private event
URL:https://dancehallfit.com/event/dancehall-fit-june-23rd-riverview/
CATEGORIES:Private Event
END:VEVENT
BEGIN:VEVENT
DTSTART;TZID=Asia/Dubai:20250621T110000
DTEND;TZID=Asia/Dubai:20250621T120000
DTSTAMP:20260426T031436
CREATED:20250622T144926Z
LAST-MODIFIED:20250622T144926Z
UID:3674-1750503600-1750507200@dancehallfit.com
SUMMARY:Dancehall Fit - June 21st Florida Blue
DESCRIPTION:Dancehall Fit Date: June 21st \nTime: 11am-12pm \nLocation: \nFlorida Blue\n2567 Countryside Blvd\nClearwater\, FL\n33761 \nCost: FREE to community
URL:https://dancehallfit.com/event/dancehall-fit-june-21st-florida-blue/
CATEGORIES:Dancehall Fit Everyone
END:VEVENT
BEGIN:VEVENT
DTSTART;TZID=Asia/Dubai:20250620T123000
DTEND;TZID=Asia/Dubai:20250620T133000
DTSTAMP:20260426T031436
CREATED:20250622T144815Z
LAST-MODIFIED:20250622T145248Z
UID:3672-1750422600-1750426200@dancehallfit.com
SUMMARY:Dancehall Fit - June 20th The Skills Center
DESCRIPTION:Date: June 20th \nTime: 12:30pm – 1:30pm \nLocation: \nThe Skills Center \n5107 N 22nd St \nTampa\, FL \n33610 \nCost: Private event
URL:https://dancehallfit.com/event/dancehall-fit-for-seniors-june-20th-the-skills-center-2/
CATEGORIES:Private Event
END:VEVENT
BEGIN:VEVENT
DTSTART;TZID=Asia/Dubai:20250620T110000
DTEND;TZID=Asia/Dubai:20250620T120000
DTSTAMP:20260426T031436
CREATED:20250622T144515Z
LAST-MODIFIED:20250622T144526Z
UID:3668-1750417200-1750420800@dancehallfit.com
SUMMARY:Dancehall Fit for Seniors - June 20th The Skills Center
DESCRIPTION:Date: June 20th \nTime: 11am – 12pm \nLocation: \nThe Skills Center \n5107 N 22nd St \nTampa\, FL \n33610 \nCost: FREE to seniors
URL:https://dancehallfit.com/event/dancehall-fit-for-seniors-june-20th-the-skills-center/
CATEGORIES:Seniors
END:VEVENT
BEGIN:VEVENT
DTSTART;TZID=Asia/Dubai:20250619T183000
DTEND;TZID=Asia/Dubai:20250619T193000
DTSTAMP:20260426T031436
CREATED:20250622T144203Z
LAST-MODIFIED:20250622T145258Z
UID:3664-1750357800-1750361400@dancehallfit.com
SUMMARY:Dancehall Fit - June 19th The Skills Center
DESCRIPTION:Date: June 19th \nTime: 6:30pm – 7:30pm \nLocation: \nThe Skills Center \n5107 N 22nd St \nTampa\, FL \n33610 \nCost: FREE to community
URL:https://dancehallfit.com/event/dancehall-fit-for-seniors-june-19th-the-skills-center/
CATEGORIES:Dancehall Fit Everyone
END:VEVENT
BEGIN:VEVENT
DTSTART;TZID=Asia/Dubai:20250618T180000
DTEND;TZID=Asia/Dubai:20250618T190000
DTSTAMP:20260426T031436
CREATED:20250622T144000Z
LAST-MODIFIED:20250622T144240Z
UID:3661-1750269600-1750273200@dancehallfit.com
SUMMARY:Dancehall Fit for Seniors - June 18th The Well
DESCRIPTION:Date: June 18th \nTime: 6pm \nLocation: \nThe Well Tampa \n5110 N 40th St \nTampa\, FL 33610 \nCost: FREE for seniors \n \n 
URL:https://dancehallfit.com/event/dancehall-fit-for-seniors-june-18th-the-well/
CATEGORIES:Seniors
END:VEVENT
BEGIN:VEVENT
DTSTART;TZID=Asia/Dubai:20250618T130000
DTEND;TZID=Asia/Dubai:20250618T150000
DTSTAMP:20260426T031436
CREATED:20250622T143653Z
LAST-MODIFIED:20250622T153556Z
UID:3659-1750251600-1750258800@dancehallfit.com
SUMMARY:Black Organization for Leadership Development
DESCRIPTION:Date: June 18th \nTime: 1pm – 3pm \nLocation: \nJP Morgan Chase \n4915 Independence Pkwy \nTampa\, FL 33634 \nCost: Private Event \n \n 
URL:https://dancehallfit.com/event/black-organization-for-leadership-development/
CATEGORIES:Private Event
END:VEVENT
BEGIN:VEVENT
DTSTART;TZID=Asia/Dubai:20250617T180000
DTEND;TZID=Asia/Dubai:20250617T190000
DTSTAMP:20260426T031436
CREATED:20250622T143058Z
LAST-MODIFIED:20250622T153426Z
UID:3657-1750183200-1750186800@dancehallfit.com
SUMMARY:Dancehall Fit - June 17th Florida Blue
DESCRIPTION:Dancehall Fit Date: June 17th \nTime: 6pm-7pm \nLocation: \nFlorida Blue\n2567 Countryside Blvd\nClearwater\, FL\n33761 \nCost: FREE to community
URL:https://dancehallfit.com/event/dancehall-fit-june-17th-florida-blue/
CATEGORIES:Dancehall Fit Everyone
END:VEVENT
BEGIN:VEVENT
DTSTART;TZID=Asia/Dubai:20250617T120000
DTEND;TZID=Asia/Dubai:20250617T130000
DTSTAMP:20260426T031436
CREATED:20250622T142818Z
LAST-MODIFIED:20250622T153257Z
UID:3652-1750161600-1750165200@dancehallfit.com
SUMMARY:Dancehall Fit for Seniors - June 17th Carver
DESCRIPTION:Date: June 17th \nTime: 12pm – 1pm \nLocation: \nCarver Recreation Center \n520 S Herbert Dixon Blvd. \nBartow\, FL \n33830 \nCost: FREE for Seniors \n \n 
URL:https://dancehallfit.com/event/dancehall-fit-for-seniors-june-17th-carver/
CATEGORIES:Seniors
END:VEVENT
BEGIN:VEVENT
DTSTART;TZID=Asia/Dubai:20250616T173000
DTEND;TZID=Asia/Dubai:20250616T183000
DTSTAMP:20260426T031436
CREATED:20250615T153512Z
LAST-MODIFIED:20250615T153512Z
UID:3633-1750095000-1750098600@dancehallfit.com
SUMMARY:Dancehall Fit for Seniors - June 16th Allen Temple
DESCRIPTION:Date: June 16th \nTime: 5:30pm – 6:30pm \nLocation: \nAllen Temple AME Church \n2101 N Lowe St \nTampa\, FL \n33605 \nCost: FREE for Seniors \n \n 
URL:https://dancehallfit.com/event/dancehall-fit-for-seniors-june-16th-allen-temple/
CATEGORIES:Seniors
END:VEVENT
END:VCALENDAR